BEGIN:VCALENDAR
VERSION:2.0
PRODID:-//Mytilene Events - ECPv6.15.18//NONSGML v1.0//EN
CALSCALE:GREGORIAN
METHOD:PUBLISH
X-WR-CALNAME:Mytilene Events
X-ORIGINAL-URL:https://events.mytilene.gr
X-WR-CALDESC:Events for Mytilene Events
REFRESH-INTERVAL;VALUE=DURATION:PT1H
X-Robots-Tag:noindex
X-PUBLISHED-TTL:PT1H
BEGIN:VTIMEZONE
TZID:Europe/Athens
BEGIN:DAYLIGHT
TZOFFSETFROM:+0200
TZOFFSETTO:+0300
TZNAME:EEST
DTSTART:20250330T010000
END:DAYLIGHT
BEGIN:STANDARD
TZOFFSETFROM:+0300
TZOFFSETTO:+0200
TZNAME:EET
DTSTART:20251026T010000
END:STANDARD
BEGIN:DAYLIGHT
TZOFFSETFROM:+0200
TZOFFSETTO:+0300
TZNAME:EEST
DTSTART:20260329T010000
END:DAYLIGHT
BEGIN:STANDARD
TZOFFSETFROM:+0300
TZOFFSETTO:+0200
TZNAME:EET
DTSTART:20261025T010000
END:STANDARD
BEGIN:DAYLIGHT
TZOFFSETFROM:+0200
TZOFFSETTO:+0300
TZNAME:EEST
DTSTART:20270328T010000
END:DAYLIGHT
BEGIN:STANDARD
TZOFFSETFROM:+0300
TZOFFSETTO:+0200
TZNAME:EET
DTSTART:20271031T010000
END:STANDARD
END:VTIMEZONE
BEGIN:VEVENT
DTSTART;TZID=Europe/Athens:20260425T203000
DTEND;TZID=Europe/Athens:20260425T223000
DTSTAMP:20260422T184516
CREATED:20260422T065833Z
LAST-MODIFIED:20260422T065833Z
UID:10000969-1777149000-1777156200@events.mytilene.gr
SUMMARY:«Κεκλεισμένων των Θυρών» στο Θεατρικό Εργαστήρι του Δήμου Μυτιλήνης
DESCRIPTION:Το Θεατρικό Εργαστήρι του Δήμου Μυτιλήνης παρουσιάζει την παράσταση «Κεκλεισμένων των Θυρών»\, το εμβληματικό έργο του Ζαν Πωλ Σαρτρ\, στις 25 και 26 Απριλίου\, στις 20:30\, στον χώρο του Θεατρικού Εργαστηρίου στη Χρυσομαλλούσα. \nΗ παράσταση ανεβαίνει από ερασιτέχνες ηθοποιούς της Μυτιλήνης\, σε συνεργασία με τον σύλλογο Φλόγα\, με έναν βαθιά κοινωνικό και ανθρωπιστικό σκοπό\, καθώς όλα τα έσοδα θα διατεθούν για την ενίσχυση του συλλόγου. \nΤο έργο «Κεκλεισμένων των Θυρών» (Huis Clos)\, που παρουσιάστηκε για πρώτη φορά το 1944 στο Παρίσι\, αποτελεί ένα από τα σημαντικότερα δείγματα του υπαρξιστικού θεάτρου. Μέσα από την έντονη και καθηλωτική ατμόσφαιρά του\, ο Σαρτρ διερευνά έννοιες όπως η ελευθερία\, η ευθύνη και η ανθρώπινη μοναξιά\, θέτοντας το διαχρονικό ερώτημα για τη σχέση μας με τους άλλους. \nΜε σεβασμό στο πρωτότυπο έργο και φρέσκια σκηνική προσέγγιση\, η παράσταση φιλοδοξεί να αγγίξει το κοινό\, συνδυάζοντας την καλλιτεχνική έκφραση με την κοινωνική προσφορά. \n  \nΠαίζουν\nΓκαρσέν: Γιάννης Κακαδέλλης\nΕστέλλα: Ελένη Μπιτζέκα\nΙνές: Μαρίνη Λαμπρινού\nΜπάτλερ: Ταξιάρχης Φανάρας\nΣκηνοθεσία: Αντουέλ Νάκε\nΦώτα: Κώστας Καρατζάς\nΚοστούμια/ Σκηνικά: Λένα Τριανταφύλλου \, Ραφαέλα Φακιολά\nΜουσική σύνθεση/ Ήχος: Σιαμέτη Χρύσα Ελένη\nΑφίσα(Πίνακας): Ραφαέλα Φακιολά\nΓραφιστικά: Μάρτιν Λήκας\nΥποβολείο / Φροντιστής σκηνής: Ταξιαρχούλα Σιμιτσή\n☎️ΤΗΛΕΦΩΝΟ ΚΡΑΤΗΣΕΩΝ : 6972314642\nΤετάρτη – Παρασκευή :18:00 – 20:00μμ
URL:https://events.mytilene.gr/event/%ce%ba%ce%b5%ce%ba%ce%bb%ce%b5%ce%b9%cf%83%ce%bc%ce%ad%ce%bd%cf%89%ce%bd-%cf%84%cf%89%ce%bd-%ce%b8%cf%85%cf%81%cf%8e%ce%bd-%cf%83%cf%84%ce%bf-%ce%b8%ce%b5%ce%b1%cf%84%cf%81%ce%b9%ce%ba/
LOCATION:Θεατρικό εργαστήρι Δήμου Μυτιλήνης
CATEGORIES:Θέατρο
ATTACH;FMTTYPE=image/jpeg:https://events.mytilene.gr/wp-content/uploads/2026/04/674546641_35582956591302641_4062589230016699831_n.jpg
END:VEVENT
BEGIN:VEVENT
DTSTART;TZID=Europe/Athens:20260426T203000
DTEND;TZID=Europe/Athens:20260426T223000
DTSTAMP:20260422T184516
CREATED:20260422T072002Z
LAST-MODIFIED:20260422T072002Z
UID:10000970-1777235400-1777242600@events.mytilene.gr
SUMMARY:«Κεκλεισμένων των Θυρών» στο Θεατρικό Εργαστήρι του Δήμου Μυτιλήνης
DESCRIPTION:Το Θεατρικό Εργαστήρι του Δήμου Μυτιλήνης παρουσιάζει την παράσταση «Κεκλεισμένων των Θυρών»\, το εμβληματικό έργο του Ζαν Πωλ Σαρτρ\, στις 25 και 26 Απριλίου\, στις 20:30\, στον χώρο του Θεατρικού Εργαστηρίου στη Χρυσομαλλούσα. \nΗ παράσταση ανεβαίνει από ερασιτέχνες ηθοποιούς της Μυτιλήνης\, σε συνεργασία με τον σύλλογο Φλόγα\, με έναν βαθιά κοινωνικό και ανθρωπιστικό σκοπό\, καθώς όλα τα έσοδα θα διατεθούν για την ενίσχυση του συλλόγου. \nΤο έργο «Κεκλεισμένων των Θυρών» (Huis Clos)\, που παρουσιάστηκε για πρώτη φορά το 1944 στο Παρίσι\, αποτελεί ένα από τα σημαντικότερα δείγματα του υπαρξιστικού θεάτρου. Μέσα από την έντονη και καθηλωτική ατμόσφαιρά του\, ο Σαρτρ διερευνά έννοιες όπως η ελευθερία\, η ευθύνη και η ανθρώπινη μοναξιά\, θέτοντας το διαχρονικό ερώτημα για τη σχέση μας με τους άλλους. \nΜε σεβασμό στο πρωτότυπο έργο και φρέσκια σκηνική προσέγγιση\, η παράσταση φιλοδοξεί να αγγίξει το κοινό\, συνδυάζοντας την καλλιτεχνική έκφραση με την κοινωνική προσφορά. \n  \nΠαίζουν\nΓκαρσέν: Γιάννης Κακαδέλλης\nΕστέλλα: Ελένη Μπιτζέκα\nΙνές: Μαρίνη Λαμπρινού\nΜπάτλερ: Ταξιάρχης Φανάρας\nΣκηνοθεσία: Αντουέλ Νάκε\nΦώτα: Κώστας Καρατζάς\nΚοστούμια/ Σκηνικά: Λένα Τριανταφύλλου \, Ραφαέλα Φακιολά\nΜουσική σύνθεση/ Ήχος: Σιαμέτη Χρύσα Ελένη\nΑφίσα(Πίνακας): Ραφαέλα Φακιολά\nΓραφιστικά: Μάρτιν Λήκας\nΥποβολείο / Φροντιστής σκηνής: Ταξιαρχούλα Σιμιτσή\n☎️ΤΗΛΕΦΩΝΟ ΚΡΑΤΗΣΕΩΝ : 6972314642\nΤετάρτη – Παρασκευή :18:00 – 20:00μμ
URL:https://events.mytilene.gr/event/%ce%ba%ce%b5%ce%ba%ce%bb%ce%b5%ce%b9%cf%83%ce%bc%ce%ad%ce%bd%cf%89%ce%bd-%cf%84%cf%89%ce%bd-%ce%b8%cf%85%cf%81%cf%8e%ce%bd-%cf%83%cf%84%ce%bf-%ce%b8%ce%b5%ce%b1%cf%84%cf%81%ce%b9%ce%ba-2/
LOCATION:Θεατρικό εργαστήρι Δήμου Μυτιλήνης
CATEGORIES:Θέατρο
ATTACH;FMTTYPE=image/jpeg:https://events.mytilene.gr/wp-content/uploads/2026/04/674546641_35582956591302641_4062589230016699831_n.jpg
END:VEVENT
END:VCALENDAR