BEGIN:VCALENDAR
VERSION:2.0
PRODID:-//Mytilene Events - ECPv6.15.18//NONSGML v1.0//EN
CALSCALE:GREGORIAN
METHOD:PUBLISH
X-ORIGINAL-URL:https://events.mytilene.gr
X-WR-CALDESC:Events for Mytilene Events
REFRESH-INTERVAL;VALUE=DURATION:PT1H
X-Robots-Tag:noindex
X-PUBLISHED-TTL:PT1H
BEGIN:VTIMEZONE
TZID:Europe/Athens
BEGIN:DAYLIGHT
TZOFFSETFROM:+0200
TZOFFSETTO:+0300
TZNAME:EEST
DTSTART:20240331T010000
END:DAYLIGHT
BEGIN:STANDARD
TZOFFSETFROM:+0300
TZOFFSETTO:+0200
TZNAME:EET
DTSTART:20241027T010000
END:STANDARD
BEGIN:DAYLIGHT
TZOFFSETFROM:+0200
TZOFFSETTO:+0300
TZNAME:EEST
DTSTART:20250330T010000
END:DAYLIGHT
BEGIN:STANDARD
TZOFFSETFROM:+0300
TZOFFSETTO:+0200
TZNAME:EET
DTSTART:20251026T010000
END:STANDARD
BEGIN:DAYLIGHT
TZOFFSETFROM:+0200
TZOFFSETTO:+0300
TZNAME:EEST
DTSTART:20260329T010000
END:DAYLIGHT
BEGIN:STANDARD
TZOFFSETFROM:+0300
TZOFFSETTO:+0200
TZNAME:EET
DTSTART:20261025T010000
END:STANDARD
END:VTIMEZONE
BEGIN:VEVENT
DTSTART;TZID=Europe/Athens:20250730T193000
DTEND;TZID=Europe/Athens:20250730T203000
DTSTAMP:20260422T222641
CREATED:20250730T055834Z
LAST-MODIFIED:20250730T055834Z
UID:10000304-1753903800-1753907400@events.mytilene.gr
SUMMARY:«ΘΡΑΥΣΜΑΤΑ: Ευριπίδης»
DESCRIPTION:Το έργο «ΘΡΑΥΣΜΑΤΑ: Ευριπίδης»\, μια παράσταση θεάτρου/αρχαιολογίας\, σε σκηνοθεσία Ευθύμη Θέου\, με τη συμμετοχή ενός θιάσου ξεχωριστών καλλιτεχνών του ελληνικού θεάτρου θα παρουσιαστεί την Τετάρτη 30 Ιουλίου στις 19:30 το απόγευμα στο Αρχαίο Θέατρο Μυτιλήνης. \nΤο 2022 ανακαλύφθηκε στη Φιλαδέλφεια της Αιγύπτου ένας πάπυρος με αποσπάσματα από τα χαμένα έργα «Πολύιδος» και «Ινώ» του Ευριπίδη. Με αφορμή αυτό το εύρημα\, η παράσταση «ΘΡΑΥΣΜΑΤΑ: Ευριπίδης» καταδύεται στο τμηματικά σωζόμενο έργο του Αθηναίου τραγικού\, παρουσιάζοντας μια αφηγηματική και μουσική σύνθεση\, στα όρια του θεάτρου και της αρχαιολογίας. \nΣτη σκηνή στήνεται μια παράδοξη\, υπαρξιακή ανασκαφή που τα ευρήματά της δεν είναι\, αυτή τη φορά\, αγγεία ή αρχιτεκτονήματα\, αλλά θεατρικοί στίχοι\, λόγια αρχαίων ηθοποιών\, σπασμένα σε μικρά κομμάτια. Πέντε ερμηνευτές/αρχαιολόγοι\, εφοδιασμένοι σκάβουν\, ακολουθώντας τη σχεδόν τελετουργική διαδικασία μιας αρχαιολογικής ανασκαφής\, όπως αυτή εξελίσσεται κατά τη διάρκεια μιας ημέρας. Και μέσα από τα σκάμματά τους ξεπηδούν στιγμιότυπα αρχαίων παραστάσεων και λεπτομέρειες της καθημερινής ζωής των θεάτρων\, όπου θα πραγματοποιηθεί το έργο. \nΗ παράσταση ανεβαίνει\, σε συνεργασία με τον Δήμο Μυτιλήνης\, από το Εθνικό Θέατρο το οποίο με την υποστήριξη του Υπουργείου Πολιτισμού και σε συνεργασία με το Σωματείο ΔΙΑΖΩΜΑ\, πραγματοποιεί για 2η συνεχόμενη χρονιά το πρόγραμμα «Γνωριμία με Αρχαία Θέατρα της Ελλάδας». \nH είσοδος είναι ελεύθερη*\, με απαραίτητη την προκράτηση θέσεων στον παρακάτω σύνδεσμο: \nhttps://www.ticketservices.gr/event/nt-thrausmata/?lang=el \nΠεριορισμένος αριθμός δελτίων εισόδων θα διατίθεται κατά σειρά προτεραιότητας στην είσοδο του Αρχαίου Θεάτρου 60 λεπτά πριν την έναρξη της παράστασης. \n* Στην πλατφόρμα αναφέρεται πως για την είσοδο στην παράσταση θα καταβάλλεται το αντίτιμο του αρχαιολογικού χώρου\, ωστόσο αυτό δεν θα είναι απαραίτητο.
URL:https://events.mytilene.gr/event/%ce%b8%cf%81%ce%b1%cf%85%cf%83%ce%bc%ce%b1%cf%84%ce%b1-%ce%b5%cf%85%cf%81%ce%b9%cf%80%ce%af%ce%b4%ce%b7%cf%82/
LOCATION:Αρχαίο Θέατρο Μυτιλήνης
CATEGORIES:Θέατρο
ATTACH;FMTTYPE=image/jpeg:https://events.mytilene.gr/wp-content/uploads/2025/07/ΑΦΙΣΑ-ΘΡΑΥΣΜΑΤΑ-ΕΥΡΙΠΙΔΗΣ.jpg
END:VEVENT
END:VCALENDAR