BEGIN:VCALENDAR
VERSION:2.0
PRODID:-//Mytilene Events - ECPv6.15.18//NONSGML v1.0//EN
CALSCALE:GREGORIAN
METHOD:PUBLISH
X-WR-CALNAME:Mytilene Events
X-ORIGINAL-URL:https://events.mytilene.gr
X-WR-CALDESC:Events for Mytilene Events
REFRESH-INTERVAL;VALUE=DURATION:PT1H
X-Robots-Tag:noindex
X-PUBLISHED-TTL:PT1H
BEGIN:VTIMEZONE
TZID:Europe/Athens
BEGIN:DAYLIGHT
TZOFFSETFROM:+0200
TZOFFSETTO:+0300
TZNAME:EEST
DTSTART:20250330T010000
END:DAYLIGHT
BEGIN:STANDARD
TZOFFSETFROM:+0300
TZOFFSETTO:+0200
TZNAME:EET
DTSTART:20251026T010000
END:STANDARD
BEGIN:DAYLIGHT
TZOFFSETFROM:+0200
TZOFFSETTO:+0300
TZNAME:EEST
DTSTART:20260329T010000
END:DAYLIGHT
BEGIN:STANDARD
TZOFFSETFROM:+0300
TZOFFSETTO:+0200
TZNAME:EET
DTSTART:20261025T010000
END:STANDARD
BEGIN:DAYLIGHT
TZOFFSETFROM:+0200
TZOFFSETTO:+0300
TZNAME:EEST
DTSTART:20270328T010000
END:DAYLIGHT
BEGIN:STANDARD
TZOFFSETFROM:+0300
TZOFFSETTO:+0200
TZNAME:EET
DTSTART:20271031T010000
END:STANDARD
END:VTIMEZONE
BEGIN:VEVENT
DTSTART;TZID=Europe/Athens:20260311T153000
DTEND;TZID=Europe/Athens:20260311T193000
DTSTAMP:20260419T153956
CREATED:20260303T073549Z
LAST-MODIFIED:20260303T073634Z
UID:10000948-1773243000-1773257400@events.mytilene.gr
SUMMARY:Ημέρα Εύρεσης Εργασίας στον τουριστικό κλάδο
DESCRIPTION:Η 3η Ημέρα Εύρεσης Εργασίας στον κλάδο του τουρισμού\, μια σημαντική πρωτοβουλία που φέρνει σε άμεση επαφή επαγγελματίες\, εργοδότες και υποψήφιους εργαζόμενους\, διοργανώνεται την Τετάρτη\, 11 Μαρτίου 2026 από τον Δήμο Μυτιλήνης\, την Ένωση Ξενοδόχων Λέσβου\, τον Σύλλογο Καταστημάτων Εστίασης και Ψυχαγωγίας «Ασπίδα»  και την Πειραματική Επαγγελματική Σχολή της Δημόσιας Υπηρεσίας Απασχόλησης Ανέργων (Δ.ΥΠ.Α.). Η εκδήλωση θα πραγματοποιηθεί στις 15:30 το μεσημέρι\, στο 6ο Δημοτικό Σχολείο Μυτιλήνης (είσοδος από την οδό Ναυμάχου Παπανικολή). \nΣτόχος της δράσης είναι η ανταλλαγή βιογραφικών\, η παρουσίαση διαθέσιμων θέσεων εργασίας και η διερεύνηση δυνατοτήτων συνεργασίας ενόψει της νέας τουριστικής περιόδου. Στην εκδήλωση μπορούν να συμμετέχουν επαγγελματίες από τον χώρο της εστίασης\, ξενοδόχοι\, ιδιοκτήτες ενοικιαζόμενων δωματίων\, τουριστικοί πράκτορες\, καθώς και επιχειρήσεις ενοικίασης οχημάτων που δραστηριοποιούνται σε όλη τη Λέσβο. \nΟι εργοδότες και οι επαγγελματίες καλούνται να προσέλθουν λίγο νωρίτερα για την καλύτερη οργάνωση της διαδικασίας\, ενώ οι υποψήφιοι εργαζόμενοι πρέπει να έχουν μαζί τους ενημερωμένο βιογραφικό σημείωμα.
URL:https://events.mytilene.gr/event/%ce%b7%ce%bc%ce%ad%cf%81%ce%b1-%ce%b5%cf%8d%cf%81%ce%b5%cf%83%ce%b7%cf%82-%ce%b5%cf%81%ce%b3%ce%b1%cf%83%ce%af%ce%b1%cf%82-%cf%83%cf%84%ce%bf%ce%bd-%cf%84%ce%bf%cf%85%cf%81%ce%b9%cf%83%cf%84%ce%b9/
LOCATION:6ο Δημοτικό Σχολείο Μυτιλήνης
CATEGORIES:Σεμινάρια
ATTACH;FMTTYPE=image/png:https://events.mytilene.gr/wp-content/uploads/2026/03/DM_Insta_new-2026-03-02T122055.628.png
END:VEVENT
END:VCALENDAR