BEGIN:VCALENDAR
VERSION:2.0
PRODID:-//Mytilene Events - ECPv6.15.20//NONSGML v1.0//EN
CALSCALE:GREGORIAN
METHOD:PUBLISH
X-ORIGINAL-URL:https://events.mytilene.gr
X-WR-CALDESC:Events for Mytilene Events
REFRESH-INTERVAL;VALUE=DURATION:PT1H
X-Robots-Tag:noindex
X-PUBLISHED-TTL:PT1H
BEGIN:VTIMEZONE
TZID:Europe/Athens
BEGIN:DAYLIGHT
TZOFFSETFROM:+0200
TZOFFSETTO:+0300
TZNAME:EEST
DTSTART:20240331T010000
END:DAYLIGHT
BEGIN:STANDARD
TZOFFSETFROM:+0300
TZOFFSETTO:+0200
TZNAME:EET
DTSTART:20241027T010000
END:STANDARD
BEGIN:DAYLIGHT
TZOFFSETFROM:+0200
TZOFFSETTO:+0300
TZNAME:EEST
DTSTART:20250330T010000
END:DAYLIGHT
BEGIN:STANDARD
TZOFFSETFROM:+0300
TZOFFSETTO:+0200
TZNAME:EET
DTSTART:20251026T010000
END:STANDARD
BEGIN:DAYLIGHT
TZOFFSETFROM:+0200
TZOFFSETTO:+0300
TZNAME:EEST
DTSTART:20260329T010000
END:DAYLIGHT
BEGIN:STANDARD
TZOFFSETFROM:+0300
TZOFFSETTO:+0200
TZNAME:EET
DTSTART:20261025T010000
END:STANDARD
BEGIN:DAYLIGHT
TZOFFSETFROM:+0200
TZOFFSETTO:+0300
TZNAME:EEST
DTSTART:20270328T010000
END:DAYLIGHT
BEGIN:STANDARD
TZOFFSETFROM:+0300
TZOFFSETTO:+0200
TZNAME:EET
DTSTART:20271031T010000
END:STANDARD
END:VTIMEZONE
BEGIN:VEVENT
DTSTART;TZID=Europe/Athens:20251228T110000
DTEND;TZID=Europe/Athens:20251228T140000
DTSTAMP:20260425T172800
CREATED:20251206T144711Z
LAST-MODIFIED:20251206T162449Z
UID:10000505-1766919600-1766930400@events.mytilene.gr
SUMMARY:Face painting με την Βασούλα Τρακέλλη
DESCRIPTION:Λάμψη και χρυσόσκονη στα φωτεινά μουτράκια\, χαρά και αισιοδοξία σε όλα τα παιδάκια. Χριστουγεννιάτικο facepainting από τη Βασούλα Τρακέλλη.
URL:https://events.mytilene.gr/event/face-painting-me-tin-vasoula-trakelli/2025-12-28/
LOCATION:Πάρκο Αγίας Ειρήνης\, Κωνσταντινουπόλεως\, Μυτιλήνη\, Λέσβος\, Greece
CATEGORIES:Για Παιδιά,Εποχιακές
ATTACH;FMTTYPE=image/jpeg:https://events.mytilene.gr/wp-content/uploads/2025/12/christmas_dream.jpg
END:VEVENT
BEGIN:VEVENT
DTSTART;TZID=Europe/Athens:20251228T173000
DTEND;TZID=Europe/Athens:20251228T203000
DTSTAMP:20260425T172800
CREATED:20251206T145216Z
LAST-MODIFIED:20251206T162449Z
UID:10000513-1766943000-1766953800@events.mytilene.gr
SUMMARY:Face painting με την Μαρία Βουλαλά
DESCRIPTION:Ο Ρούντολφ σας περιμένει για να στολίσει τα προσωπάκια σας με Χριστουγεννιάτικη μαγεία! Face painting από την Μαρία Βουλαλά.
URL:https://events.mytilene.gr/event/face-painting-me-tin-maria-voulala/2025-12-28/
LOCATION:Πάρκο Αγίας Ειρήνης\, Κωνσταντινουπόλεως\, Μυτιλήνη\, Λέσβος\, Greece
CATEGORIES:Για Παιδιά,Εποχιακές
ATTACH;FMTTYPE=image/jpeg:https://events.mytilene.gr/wp-content/uploads/2025/12/christmas_dream.jpg
END:VEVENT
BEGIN:VEVENT
DTSTART;TZID=Europe/Athens:20251228T180000
DTEND;TZID=Europe/Athens:20251228T193000
DTSTAMP:20260425T172800
CREATED:20251206T161810Z
LAST-MODIFIED:20251228T143133Z
UID:10000926-1766944800-1766950200@events.mytilene.gr
SUMMARY:Αστροπαρατήρηση από τον Σύλλογο Αστρονομίας “Ο Δελφίν”
DESCRIPTION:Αστροπαρατήρηση από τον Σύλλογο Αστρονομίας “Ο Δελφίν”.
URL:https://events.mytilene.gr/event/astroparatirisi-apo-ton-syllogo-astronomias-o-delfin/
LOCATION:Πάρκο Αγίας Ειρήνης\, Κωνσταντινουπόλεως\, Μυτιλήνη\, Λέσβος\, Greece
CATEGORIES:Για Παιδιά,Εποχιακές
ATTACH;FMTTYPE=image/jpeg:https://events.mytilene.gr/wp-content/uploads/2025/12/christmas_dream.jpg
END:VEVENT
BEGIN:VEVENT
DTSTART;TZID=Europe/Athens:20251228T190000
DTEND;TZID=Europe/Athens:20251228T203000
DTSTAMP:20260425T172800
CREATED:20251206T161902Z
LAST-MODIFIED:20251206T162449Z
UID:10000927-1766948400-1766953800@events.mytilene.gr
SUMMARY:Αφήγηση και δραματοποίηση παραμυθιών με τον Γιώργο Καπνουλά
DESCRIPTION:Αφήγηση και δραματοποίηση παραμυθιών με τον Γιώργο Καπνουλά.
URL:https://events.mytilene.gr/event/afigisi-kai-dramatopoiisi-paramythion-me-ton-giorgo-kapnoula-2/
LOCATION:Πάρκο Αγίας Ειρήνης\, Κωνσταντινουπόλεως\, Μυτιλήνη\, Λέσβος\, Greece
CATEGORIES:Για Παιδιά,Εποχιακές
ATTACH;FMTTYPE=image/jpeg:https://events.mytilene.gr/wp-content/uploads/2025/12/christmas_dream.jpg
END:VEVENT
BEGIN:VEVENT
DTSTART;TZID=Europe/Athens:20251229T100000
DTEND;TZID=Europe/Athens:20251229T130000
DTSTAMP:20260425T172800
CREATED:20251206T150629Z
LAST-MODIFIED:20251219T122429Z
UID:10000894-1767002400-1767013200@events.mytilene.gr
SUMMARY:«Το σπιτάκι της Ανακύκλωσης & της Φιλοζωίας»
DESCRIPTION:Η Διεύθυνση Περιβάλλοντος του Δήμου Μυτιλήνης ενώνει τη μαγεία των Χριστουγέννων με την αγάπη για το περιβάλλον και τα ζώα. Ελάτε να φτιάξουμε γιρλάντες και στολίδια από ανακυκλώσιμα υλικά\, να μάθουμε απλές πράσινες συνήθειες και να γνωρίσουμε δράσεις για την προστασία και τη φροντίδα των αδέσποτων. Μικροί και μεγάλοι θα ανακαλύψουν πως μικρές πράξεις μπορούν να κάνουν τον κόσμο πιο φωτεινό — για εμάς και για τους τετράποδους φίλους μας.
URL:https://events.mytilene.gr/event/to-spitaki-tis-anakyklosis-tis-filozoias/2025-12-29/
LOCATION:Πάρκο Αγίας Ειρήνης\, Κωνσταντινουπόλεως\, Μυτιλήνη\, Λέσβος\, Greece
CATEGORIES:Για Παιδιά,Δράσεις,Εποχιακές
ATTACH;FMTTYPE=image/png:https://events.mytilene.gr/wp-content/uploads/2025/12/ΤΟ-ΣΠΙΤΑΚΙ-ΤΗΣ-ΑΝΑΚΥΚΛΩΣΗΣ-ΤΗΣ-ΦΙΛΟΖΩΙΑΣ-1.png
END:VEVENT
BEGIN:VEVENT
DTSTART;TZID=Europe/Athens:20251229T110000
DTEND;TZID=Europe/Athens:20251229T140000
DTSTAMP:20260425T172800
CREATED:20251206T145216Z
LAST-MODIFIED:20251206T162449Z
UID:10000514-1767006000-1767016800@events.mytilene.gr
SUMMARY:Face painting με την Μαρία Βουλαλά
DESCRIPTION:Ο Ρούντολφ σας περιμένει για να στολίσει τα προσωπάκια σας με Χριστουγεννιάτικη μαγεία! Face painting από την Μαρία Βουλαλά.
URL:https://events.mytilene.gr/event/face-painting-me-tin-maria-voulala/2025-12-29/
LOCATION:Πάρκο Αγίας Ειρήνης\, Κωνσταντινουπόλεως\, Μυτιλήνη\, Λέσβος\, Greece
CATEGORIES:Για Παιδιά,Εποχιακές
ATTACH;FMTTYPE=image/jpeg:https://events.mytilene.gr/wp-content/uploads/2025/12/christmas_dream.jpg
END:VEVENT
BEGIN:VEVENT
DTSTART;TZID=Europe/Athens:20251229T173000
DTEND;TZID=Europe/Athens:20251229T203000
DTSTAMP:20260425T172800
CREATED:20251206T144711Z
LAST-MODIFIED:20251206T162449Z
UID:10000506-1767029400-1767040200@events.mytilene.gr
SUMMARY:Face painting με την Βασούλα Τρακέλλη
DESCRIPTION:Λάμψη και χρυσόσκονη στα φωτεινά μουτράκια\, χαρά και αισιοδοξία σε όλα τα παιδάκια. Χριστουγεννιάτικο facepainting από τη Βασούλα Τρακέλλη.
URL:https://events.mytilene.gr/event/face-painting-me-tin-vasoula-trakelli/2025-12-29/
LOCATION:Πάρκο Αγίας Ειρήνης\, Κωνσταντινουπόλεως\, Μυτιλήνη\, Λέσβος\, Greece
CATEGORIES:Για Παιδιά,Εποχιακές
ATTACH;FMTTYPE=image/jpeg:https://events.mytilene.gr/wp-content/uploads/2025/12/christmas_dream.jpg
END:VEVENT
BEGIN:VEVENT
DTSTART;TZID=Europe/Athens:20251229T180000
DTEND;TZID=Europe/Athens:20251229T193000
DTSTAMP:20260425T172800
CREATED:20251206T161956Z
LAST-MODIFIED:20251206T162449Z
UID:10000928-1767031200-1767036600@events.mytilene.gr
SUMMARY:Αφήγηση του παραμυθιού τα «Δωρομπερδέματα» της Ελένης Σβορώνου
DESCRIPTION:Αφήγηση του παραμυθιού τα «Δωρομπερδέματα» της Ελένης Σβορώνου.
URL:https://events.mytilene.gr/event/afigisi-tou-paramythiou-ta-doroberdemata-tis-elenis-svoronou/
LOCATION:Πάρκο Αγίας Ειρήνης\, Κωνσταντινουπόλεως\, Μυτιλήνη\, Λέσβος\, Greece
CATEGORIES:Για Παιδιά,Εποχιακές
ATTACH;FMTTYPE=image/jpeg:https://events.mytilene.gr/wp-content/uploads/2025/12/christmas_dream.jpg
END:VEVENT
BEGIN:VEVENT
DTSTART;TZID=Europe/Athens:20251229T203000
DTEND;TZID=Europe/Athens:20251229T220000
DTSTAMP:20260425T172800
CREATED:20251206T162114Z
LAST-MODIFIED:20251206T162449Z
UID:10000929-1767040200-1767045600@events.mytilene.gr
SUMMARY:Συναυλία με τον Πάνο Γαληνό
DESCRIPTION:Συναυλία με τον Πάνο Γαληνό στο Χριστουγεννιάτικο Χωριό.
URL:https://events.mytilene.gr/event/synavlia-me-ton-pano-galino/
LOCATION:Πάρκο Αγίας Ειρήνης\, Κωνσταντινουπόλεως\, Μυτιλήνη\, Λέσβος\, Greece
CATEGORIES:Για Παιδιά,Εποχιακές
ATTACH;FMTTYPE=image/jpeg:https://events.mytilene.gr/wp-content/uploads/2025/12/christmas_dream.jpg
END:VEVENT
BEGIN:VEVENT
DTSTART;TZID=Europe/Athens:20251230T100000
DTEND;TZID=Europe/Athens:20251230T130000
DTSTAMP:20260425T172800
CREATED:20251206T150629Z
LAST-MODIFIED:20251219T122429Z
UID:10000895-1767088800-1767099600@events.mytilene.gr
SUMMARY:«Το σπιτάκι της Ανακύκλωσης & της Φιλοζωίας»
DESCRIPTION:Η Διεύθυνση Περιβάλλοντος του Δήμου Μυτιλήνης ενώνει τη μαγεία των Χριστουγέννων με την αγάπη για το περιβάλλον και τα ζώα. Ελάτε να φτιάξουμε γιρλάντες και στολίδια από ανακυκλώσιμα υλικά\, να μάθουμε απλές πράσινες συνήθειες και να γνωρίσουμε δράσεις για την προστασία και τη φροντίδα των αδέσποτων. Μικροί και μεγάλοι θα ανακαλύψουν πως μικρές πράξεις μπορούν να κάνουν τον κόσμο πιο φωτεινό — για εμάς και για τους τετράποδους φίλους μας.
URL:https://events.mytilene.gr/event/to-spitaki-tis-anakyklosis-tis-filozoias/2025-12-30/
LOCATION:Πάρκο Αγίας Ειρήνης\, Κωνσταντινουπόλεως\, Μυτιλήνη\, Λέσβος\, Greece
CATEGORIES:Για Παιδιά,Δράσεις,Εποχιακές
ATTACH;FMTTYPE=image/png:https://events.mytilene.gr/wp-content/uploads/2025/12/ΤΟ-ΣΠΙΤΑΚΙ-ΤΗΣ-ΑΝΑΚΥΚΛΩΣΗΣ-ΤΗΣ-ΦΙΛΟΖΩΙΑΣ-1.png
END:VEVENT
BEGIN:VEVENT
DTSTART;TZID=Europe/Athens:20251230T110000
DTEND;TZID=Europe/Athens:20251230T140000
DTSTAMP:20260425T172800
CREATED:20251206T145216Z
LAST-MODIFIED:20251206T162449Z
UID:10000515-1767092400-1767103200@events.mytilene.gr
SUMMARY:Face painting με την Μαρία Βουλαλά
DESCRIPTION:Ο Ρούντολφ σας περιμένει για να στολίσει τα προσωπάκια σας με Χριστουγεννιάτικη μαγεία! Face painting από την Μαρία Βουλαλά.
URL:https://events.mytilene.gr/event/face-painting-me-tin-maria-voulala/2025-12-30/
LOCATION:Πάρκο Αγίας Ειρήνης\, Κωνσταντινουπόλεως\, Μυτιλήνη\, Λέσβος\, Greece
CATEGORIES:Για Παιδιά,Εποχιακές
ATTACH;FMTTYPE=image/jpeg:https://events.mytilene.gr/wp-content/uploads/2025/12/christmas_dream.jpg
END:VEVENT
BEGIN:VEVENT
DTSTART;TZID=Europe/Athens:20251230T173000
DTEND;TZID=Europe/Athens:20251230T203000
DTSTAMP:20260425T172800
CREATED:20251206T144711Z
LAST-MODIFIED:20251206T162449Z
UID:10000507-1767115800-1767126600@events.mytilene.gr
SUMMARY:Face painting με την Βασούλα Τρακέλλη
DESCRIPTION:Λάμψη και χρυσόσκονη στα φωτεινά μουτράκια\, χαρά και αισιοδοξία σε όλα τα παιδάκια. Χριστουγεννιάτικο facepainting από τη Βασούλα Τρακέλλη.
URL:https://events.mytilene.gr/event/face-painting-me-tin-vasoula-trakelli/2025-12-30/
LOCATION:Πάρκο Αγίας Ειρήνης\, Κωνσταντινουπόλεως\, Μυτιλήνη\, Λέσβος\, Greece
CATEGORIES:Για Παιδιά,Εποχιακές
ATTACH;FMTTYPE=image/jpeg:https://events.mytilene.gr/wp-content/uploads/2025/12/christmas_dream.jpg
END:VEVENT
BEGIN:VEVENT
DTSTART;TZID=Europe/Athens:20251231T110000
DTEND;TZID=Europe/Athens:20251231T140000
DTSTAMP:20260425T172800
CREATED:20251206T145216Z
LAST-MODIFIED:20251206T162449Z
UID:10000516-1767178800-1767189600@events.mytilene.gr
SUMMARY:Face painting με την Μαρία Βουλαλά
DESCRIPTION:Ο Ρούντολφ σας περιμένει για να στολίσει τα προσωπάκια σας με Χριστουγεννιάτικη μαγεία! Face painting από την Μαρία Βουλαλά.
URL:https://events.mytilene.gr/event/face-painting-me-tin-maria-voulala/2025-12-31/
LOCATION:Πάρκο Αγίας Ειρήνης\, Κωνσταντινουπόλεως\, Μυτιλήνη\, Λέσβος\, Greece
CATEGORIES:Για Παιδιά,Εποχιακές
ATTACH;FMTTYPE=image/jpeg:https://events.mytilene.gr/wp-content/uploads/2025/12/christmas_dream.jpg
END:VEVENT
BEGIN:VEVENT
DTSTART;TZID=Europe/Athens:20260102T100000
DTEND;TZID=Europe/Athens:20260102T130000
DTSTAMP:20260425T172800
CREATED:20251206T150629Z
LAST-MODIFIED:20251219T122429Z
UID:10000896-1767348000-1767358800@events.mytilene.gr
SUMMARY:«Το σπιτάκι της Ανακύκλωσης & της Φιλοζωίας»
DESCRIPTION:Η Διεύθυνση Περιβάλλοντος του Δήμου Μυτιλήνης ενώνει τη μαγεία των Χριστουγέννων με την αγάπη για το περιβάλλον και τα ζώα. Ελάτε να φτιάξουμε γιρλάντες και στολίδια από ανακυκλώσιμα υλικά\, να μάθουμε απλές πράσινες συνήθειες και να γνωρίσουμε δράσεις για την προστασία και τη φροντίδα των αδέσποτων. Μικροί και μεγάλοι θα ανακαλύψουν πως μικρές πράξεις μπορούν να κάνουν τον κόσμο πιο φωτεινό — για εμάς και για τους τετράποδους φίλους μας.
URL:https://events.mytilene.gr/event/to-spitaki-tis-anakyklosis-tis-filozoias/2026-01-02/
LOCATION:Πάρκο Αγίας Ειρήνης\, Κωνσταντινουπόλεως\, Μυτιλήνη\, Λέσβος\, Greece
CATEGORIES:Για Παιδιά,Δράσεις,Εποχιακές
ATTACH;FMTTYPE=image/png:https://events.mytilene.gr/wp-content/uploads/2025/12/ΤΟ-ΣΠΙΤΑΚΙ-ΤΗΣ-ΑΝΑΚΥΚΛΩΣΗΣ-ΤΗΣ-ΦΙΛΟΖΩΙΑΣ-1.png
END:VEVENT
BEGIN:VEVENT
DTSTART;VALUE=DATE:20260215
DTEND;VALUE=DATE:20260223
DTSTAMP:20260425T172800
CREATED:20260117T085935Z
LAST-MODIFIED:20260117T095536Z
UID:10000933-1771113600-1771804799@events.mytilene.gr
SUMMARY:Κυνήγι Κρυμμένου Θησαυρού 2026
DESCRIPTION:«Το Κυνήγι του Κρυμμένου Θησαυρού» θα πραγματοποιηθεί για 9η φορά\, καλώντας μικρούς και μεγάλους να λάβουν μέρος σε μία ακόμη περιπέτεια του φημισμένου πειρατή Καπετάν Μωρέλη! Το παιχνίδι θα ξεκινήσει την Κυριακή 15 Φεβρουαρίου στις 18:00 από το Δημοτικό Θέατρο Μυτιλήνης\, όπου οι συμμετέχοντες θα παραλάβουν τους γρίφους τους\, θα κορυφωθεί το Σάββατο 21 Φεβρουαρίου στις 12:00 με τα «Παιχνίδια Πλατείας» στην Πλατεία Σαπφούς και θα ολοκληρωθεί την Κυριακή 22 Φεβρουαρίου\, μετά το πέρας της καρναβαλικής παρέλασης. \nΚαλούμε όλους τους τοπικούς Συλλόγους\, τα σχολεία με τους Συλλόγους Γονέων & Κηδεμόνων και τους Συλλόγους Εκπαιδευτικών\, τις Θεατρικές και Πολιτιστικές ομάδες\, τις επιχειρήσεις\, οικογένειες και παρέες να δηλώσουν συμμετοχή προκειμένου να λάβουν μέρος στις καρναβαλικές εκδηλώσεις του Δήμου Μυτιλήνης που φιλοδοξούμε φέτος να έχουν ένα ξεχωριστό χρώμα και ακόμα πιο ανεβασμένη διάθεση και ενέργεια. \nΔηλώσεις συμμετοχής: \n➡️ Για την Καρναβαλική παρέλαση έως και την Πέμπτη 19 Φεβρουαρίου στις 12:00 μμ μέσω email στο karnavalimytilene@gmail.com (αναφέροντας τουλάχιστον ένα όνομα και ένα τηλέφωνο επικοινωνίας\, όνομα πληρώματος και αριθμό συμμετεχόντων ατόμων και πως αφορά την καρναβαλική παρέλαση) \n➡️ Για το «Κυνήγι Κρυμμένου Θησαυρού» έως και την Κυριακή 15 Φεβρουαρίου μέσω της φόρμας στην ιστοσελίδα https://bit.ly/kktmyt26 ή μέσω email στο karnavalimytilene@gmail.com (αναφέροντας τουλάχιστον ένα όνομα και ένα τηλέφωνο επικοινωνίας και πως αφορά το Κυνήγι Θησαυρού)
URL:https://events.mytilene.gr/event/kynigi-krymmenou-thisavrou-2026/
LOCATION:Λέσβος
CATEGORIES:Για Παιδιά,Εποχιακές
ATTACH;FMTTYPE=image/png:https://events.mytilene.gr/wp-content/uploads/2026/01/ChatGPT-Image-13-Ιαν-2026-03_48_52-μ.μ.png
END:VEVENT
BEGIN:VEVENT
DTSTART;TZID=Europe/Athens:20260221T120000
DTEND;TZID=Europe/Athens:20260221T143000
DTSTAMP:20260425T172800
CREATED:20260117T085808Z
LAST-MODIFIED:20260117T092539Z
UID:10000935-1771675200-1771684200@events.mytilene.gr
SUMMARY:Παιδικό αποκριάτικο πάρτι
DESCRIPTION:Όπως κάθε χρόνο έτσι και φέτος θα πραγματοποιηθεί το μεγάλο Αποκριάτικο Πάρτι για τους μικρούς μας φίλους το πρωί του Σαββάτου 21 Φεβρουαρίου στις 12:00 στο Πάρκο Αγίας Ειρήνης.
URL:https://events.mytilene.gr/event/paidiko-apokriatiko-parti/
LOCATION:Πάρκο Αγίας Ειρήνης\, Κωνσταντινουπόλεως\, Μυτιλήνη\, Λέσβος\, Greece
CATEGORIES:Για Παιδιά,Εποχιακές
ATTACH;FMTTYPE=image/jpeg:https://events.mytilene.gr/wp-content/uploads/2026/01/481301199_960066499595673_2003935290136621434_n.jpg
END:VEVENT
BEGIN:VEVENT
DTSTART;TZID=Europe/Athens:20260221T150000
DTEND;TZID=Europe/Athens:20260221T170000
DTSTAMP:20260425T172800
CREATED:20260117T085055Z
LAST-MODIFIED:20260117T092411Z
UID:10000936-1771686000-1771693200@events.mytilene.gr
SUMMARY:Παιχνίδια Πλατείας
DESCRIPTION:Τα «Παιχνίδια Πλατείας» θα πραγματοποιηθούν το Σάββατο 21 Φεβρουαρίου στις 12:00 με τα «Παιχνίδια Πλατείας» στην Πλατεία Σαπφούς\, στο πλαίσιο του 9ου Κυνηγιού Κρυμμένου Θησαυρού του Δήμου Μυτιλήνης.
URL:https://events.mytilene.gr/event/paichnidia-plateias/
LOCATION:Πλατεία Σαπφούς\, Π. Κουντουριώτου\, Μυτιλήνη\, 81100\, Greece
CATEGORIES:Για Παιδιά,Εποχιακές
ATTACH;FMTTYPE=image/jpeg:https://events.mytilene.gr/wp-content/uploads/2026/01/480833289_960666952868961_5451183766452890386_n.jpg
END:VEVENT
BEGIN:VEVENT
DTSTART;TZID=Europe/Athens:20260222T140000
DTEND;TZID=Europe/Athens:20260222T180000
DTSTAMP:20260425T172800
CREATED:20260117T090049Z
LAST-MODIFIED:20260218T070524Z
UID:10000934-1771768800-1771783200@events.mytilene.gr
SUMMARY:Καρναβαλική Παρέλαση
DESCRIPTION:Η μεγάλη Καρναβαλική παρέλαση θα πραγματοποιηθεί την Κυριακή 22 Φεβρουαρίου 2026 στην προκυμαία Μυτιλήνης\, με σημείο εκκίνησης στις 14:00 τον χώρο του λιμανιού και τερματισμό μπροστά από το Δημοτικό Θέατρο\, όπου θα πραγματοποιηθεί ένα μεγάλο αποκριάτικο πάρτι. \n\nΚαλούμε όλους τους τοπικούς Συλλόγους\, τα σχολεία με τους Συλλόγους Γονέων & Κηδεμόνων και τους Συλλόγους Εκπαιδευτικών\, τις Θεατρικές και Πολιτιστικές ομάδες\, τις επιχειρήσεις\, οικογένειες και παρέες να δηλώσουν συμμετοχή προκειμένου να λάβουν μέρος στις καρναβαλικές εκδηλώσεις του Δήμου Μυτιλήνης που φιλοδοξούμε φέτος να έχουν ένα ξεχωριστό χρώμα και ακόμα πιο ανεβασμένη διάθεση και ενέργεια.\n\n\n\nΔηλώσεις συμμετοχής:\n\n\n\n Για την Καρναβαλική παρέλαση έως και την Πέμπτη 19 Φεβρουαρίου στις 12:00 μμ μέσω email στο karnavalimytilene@gmail.com (αναφέροντας τουλάχιστον ένα όνομα και ένα τηλέφωνο επικοινωνίας\, όνομα πληρώματος και αριθμό συμμετεχόντων ατόμων και πως αφορά την καρναβαλική παρέλαση)
URL:https://events.mytilene.gr/event/karnavaliki-parelasi/
LOCATION:Προκυμαία Μυτιλήνης\, Π. Κουντουριώτου\, Μυτιλήνη\, 81100\, Greece
CATEGORIES:Για Παιδιά,Έθιμα,Εποχιακές
ATTACH;FMTTYPE=image/jpeg:https://events.mytilene.gr/wp-content/uploads/2026/01/ΚΑΡΝΑΒΑΛΙ-ΜΥΤΙΛΗΝΗΣ-2026-ΑΦΙΣΑ-ΤΕΛΙΚΗ.jpg
END:VEVENT
BEGIN:VEVENT
DTSTART;TZID=Europe/Athens:20260223T110000
DTEND;TZID=Europe/Athens:20260223T170000
DTSTAMP:20260425T172800
CREATED:20260218T070354Z
LAST-MODIFIED:20260218T070542Z
UID:10000946-1771844400-1771866000@events.mytilene.gr
SUMMARY:Κούλουμα στη Μυτιλήνη – γιορτάζουμε μαζί την Καθαρή Δευτέρα!
DESCRIPTION:Τη Δευτέρα 23 Φεβρουαρίου στις 11:00\, η Δημοτική Κοινότητα Μυτιλήνης\, ο Δήμος Μυτιλήνης και ο Σύλλογος Καταστημάτων Εστίασης και Ψυχαγωγίας «ΑΣΠΙΔΑ» δίνουμε ραντεβού στην Πλατεία Μηλένα Κοντού για να υποδεχτούμε όλες και όλοι μαζί την πρώτη μέρα της Σαρακοστής. \nΣας προσκαλούμε σε μια ανοιχτή γιορτή για μικρούς και μεγάλους\, με διαγωνισμό χαρταετού\, παραδοσιακά σαρακοστιανά εδέσματα και μουσικές επιλογές από DJ που θα δώσουν ρυθμό και ζωντάνια στη μέρα. \nΕλάτε να κρατήσουμε ζωντανά τα έθιμά μας\, να γεμίσουμε τον ουρανό με χρώματα και να μοιραστούμε στιγμές χαράς και αισιοδοξίας στην καρδιά της πόλης μας. \nΣας περιμένουμε!
URL:https://events.mytilene.gr/event/koulouma-sti-mytilini-giortazoume-mazi-tin-kathari-deftera/
LOCATION:Πλατεία Μηλένα Κοντού\, Πλατεία Μηλένα Κοντού\, Μυτιλήνη\, 81100\, Greece
CATEGORIES:Για Παιδιά,Έθιμα,Εποχιακές
ATTACH;FMTTYPE=image/png:https://events.mytilene.gr/wp-content/uploads/2026/02/ΚΟΥΛΟΥΜΑ-2026-ΠΛΑΤΕΙΑ-ΜΗΛΕΝΑ-ΚΟΝΤΟΥ.png
END:VEVENT
BEGIN:VEVENT
DTSTART;TZID=Europe/Athens:20260308T180000
DTEND;TZID=Europe/Athens:20260308T203000
DTSTAMP:20260425T172800
CREATED:20260303T073902Z
LAST-MODIFIED:20260304T065459Z
UID:10000949-1772992800-1773001800@events.mytilene.gr
SUMMARY:Εκδήλωση με αφορμή την Παγκόσμια Ημέρα της Γυναίκας
DESCRIPTION:Εκδήλωση με αφορμή την Παγκόσμια Ημέρα της Γυναίκας διοργανώνει την Κυριακή\, 8 Μαρτίου\, στις 18:00\, στο Πολύκεντρο του Παπάδου «Οδυσσέας Ελύτης» η Δημοτική Ενότητα Γέρας και ο Δήμος Μυτιλήνης. \nΗ εκδήλωση είναι αφιερωμένη στη γυναίκα και στη δύναμη της ψυχής της και μεταξύ άλλων περιλαμβάνει ομιλίες από την Καθηγήτρια Ψυχολογίας του Πανεπιστημίου Αιγαίου\, Αναστασία Ζήση και τη Γενική Γραμματέα του Δήμου\, Όλγα Χιώτη\, βιωματική δράση με τίτλο «Η δύναμη έχει εκπρόσωπο» από τον Ξενώνα Φιλοξενίας Γυναικών θυμάτων βίας\, τραγούδια από την Χορωδία του Παγγεραγωτικού Συλλόγου καθώς και βράβευση γυναικών από χωριά της Γέρας.
URL:https://events.mytilene.gr/event/ekdilwsi-pagkosmia-imera-gynaikas/
LOCATION:Πολύκεντρο Παπάδου Γέρας
CATEGORIES:Εποχιακές,Συνέδρια
ATTACH;FMTTYPE=image/png:https://events.mytilene.gr/wp-content/uploads/2026/03/ΗΜΕΡΑ-ΤΗΣ-ΓΥΝΑΙΚΑΣ-2026-ΓΕΡΑ-v2.png
END:VEVENT
BEGIN:VEVENT
DTSTART;TZID=Europe/Athens:20260403T200000
DTEND;TZID=Europe/Athens:20260403T220000
DTSTAMP:20260425T172800
CREATED:20260327T062302Z
LAST-MODIFIED:20260327T062302Z
UID:10000959-1775246400-1775253600@events.mytilene.gr
SUMMARY:«Προσκυνούμεν Σου Τα Πάθη Χριστέ»
DESCRIPTION:Μία Πασχαλινή συναυλία\, στην οποία μουσική και λόγος πλέκονται ιδανικά\, πλήρως εναρμονισμένη με τη Θρησκευτική μουσική της Μεγάλης Εβδομάδας\, και με τον τίτλο «Προσκυνούμεν Σου Τα Πάθη Χριστέ» διοργανώνει ο Δήμος Μυτιλήνης την Παρασκευή 3 και το Σάββατο 4 Απριλίου και ώρα 20:00 στο Ρουσέλλειο Δημοτικό Θέατρο. \nΣτη συναυλία θα ακουστούν αποσπάσματα από έργα Ελλήνων και ξένων συνθετών\, όπως των G.B Pergolesi\,  W. Mozart\, J. S Bach\, P. Mascani\, Σ. Κουγιουμτζή\, Θρησκευτικοί Ύμνοι κ.α. Ο ηθοποιός – αφηγητής θα μας οδηγήσει στη κορύφωση του Θείου Δράματος με κείμενα των πιο σπουδαίων Ελλήνων και ξένων ποιητών και πεζογράφων αλλά και αποσπάσματα από γνωστά Τροπάρια της Μεγάλης Εβδομάδας. \nΣυντελεστές \n\nΥψίφωνος: Ελένη Κομνή\nΜεσόφωνος: Άννα Τσελίκα\nΗθοποιός – Αφήγηση: Τάσος Νούσιας\nΣυμμετέχουν η Δημοτική χορωδία Μυτιλήνης «Νίκος Μυρογιάννης» και η Πολυφωνική χορωδία Μυτιλήνης (Μουσική διδασκαλία: Στέλιος Λασκαρίδης) και η Βυζαντινή Χορωδία των Φίλων του Ωδείου «Νίκος Σκαλκώτας» (Χοράρχης: Πολύδωρος Αμπατζής).\nΣυνοδεύει Ορχήστρα μουσικής δωματίου (Ενορχήστρωση- μουσική διεύθυνση: Θοδωρής Λεμπέσης).\n\nΗ είσοδος στις συναυλίες είναι δωρεάν\, με προσκλήσεις που θα διατίθενται (μέχρι την εξάντλησή τους) από το Ταμείο του Δημοτικού Θεάτρου τη Δευτέρα 30 και την Τρίτη 31 Μαρτίου κατά τις ώρες 18:00 – 20:00.
URL:https://events.mytilene.gr/event/%cf%80%cf%81%ce%bf%cf%83%ce%ba%cf%85%ce%bd%ce%bf%cf%8d%ce%bc%ce%b5%ce%bd-%cf%83%ce%bf%cf%85-%cf%84%ce%b1-%cf%80%ce%ac%ce%b8%ce%b7-%cf%87%cf%81%ce%b9%cf%83%cf%84%ce%ad/2026-04-03/
LOCATION:Δημοτικό Θέατρο Μυτιλήνης
CATEGORIES:Εποχιακές,Μουσική,Συναυλίες
ATTACH;FMTTYPE=image/jpeg:https://events.mytilene.gr/wp-content/uploads/2026/03/ΣΥΝΑΥΛΙΑ-ΠΑΣΧΑ-Large.jpg
END:VEVENT
BEGIN:VEVENT
DTSTART;TZID=Europe/Athens:20260404T200000
DTEND;TZID=Europe/Athens:20260404T220000
DTSTAMP:20260425T172800
CREATED:20260327T062302Z
LAST-MODIFIED:20260327T062302Z
UID:10000960-1775332800-1775340000@events.mytilene.gr
SUMMARY:«Προσκυνούμεν Σου Τα Πάθη Χριστέ»
DESCRIPTION:Μία Πασχαλινή συναυλία\, στην οποία μουσική και λόγος πλέκονται ιδανικά\, πλήρως εναρμονισμένη με τη Θρησκευτική μουσική της Μεγάλης Εβδομάδας\, και με τον τίτλο «Προσκυνούμεν Σου Τα Πάθη Χριστέ» διοργανώνει ο Δήμος Μυτιλήνης την Παρασκευή 3 και το Σάββατο 4 Απριλίου και ώρα 20:00 στο Ρουσέλλειο Δημοτικό Θέατρο. \nΣτη συναυλία θα ακουστούν αποσπάσματα από έργα Ελλήνων και ξένων συνθετών\, όπως των G.B Pergolesi\,  W. Mozart\, J. S Bach\, P. Mascani\, Σ. Κουγιουμτζή\, Θρησκευτικοί Ύμνοι κ.α. Ο ηθοποιός – αφηγητής θα μας οδηγήσει στη κορύφωση του Θείου Δράματος με κείμενα των πιο σπουδαίων Ελλήνων και ξένων ποιητών και πεζογράφων αλλά και αποσπάσματα από γνωστά Τροπάρια της Μεγάλης Εβδομάδας. \nΣυντελεστές \n\nΥψίφωνος: Ελένη Κομνή\nΜεσόφωνος: Άννα Τσελίκα\nΗθοποιός – Αφήγηση: Τάσος Νούσιας\nΣυμμετέχουν η Δημοτική χορωδία Μυτιλήνης «Νίκος Μυρογιάννης» και η Πολυφωνική χορωδία Μυτιλήνης (Μουσική διδασκαλία: Στέλιος Λασκαρίδης) και η Βυζαντινή Χορωδία των Φίλων του Ωδείου «Νίκος Σκαλκώτας» (Χοράρχης: Πολύδωρος Αμπατζής).\nΣυνοδεύει Ορχήστρα μουσικής δωματίου (Ενορχήστρωση- μουσική διεύθυνση: Θοδωρής Λεμπέσης).\n\nΗ είσοδος στις συναυλίες είναι δωρεάν\, με προσκλήσεις που θα διατίθενται (μέχρι την εξάντλησή τους) από το Ταμείο του Δημοτικού Θεάτρου τη Δευτέρα 30 και την Τρίτη 31 Μαρτίου κατά τις ώρες 18:00 – 20:00.
URL:https://events.mytilene.gr/event/%cf%80%cf%81%ce%bf%cf%83%ce%ba%cf%85%ce%bd%ce%bf%cf%8d%ce%bc%ce%b5%ce%bd-%cf%83%ce%bf%cf%85-%cf%84%ce%b1-%cf%80%ce%ac%ce%b8%ce%b7-%cf%87%cf%81%ce%b9%cf%83%cf%84%ce%ad/2026-04-04/
LOCATION:Δημοτικό Θέατρο Μυτιλήνης
CATEGORIES:Εποχιακές,Μουσική,Συναυλίες
ATTACH;FMTTYPE=image/jpeg:https://events.mytilene.gr/wp-content/uploads/2026/03/ΣΥΝΑΥΛΙΑ-ΠΑΣΧΑ-Large.jpg
END:VEVENT
END:VCALENDAR