BEGIN:VCALENDAR
VERSION:2.0
PRODID:-//Mytilene Events - ECPv6.15.20//NONSGML v1.0//EN
CALSCALE:GREGORIAN
METHOD:PUBLISH
X-ORIGINAL-URL:https://events.mytilene.gr
X-WR-CALDESC:Events for Mytilene Events
REFRESH-INTERVAL;VALUE=DURATION:PT1H
X-Robots-Tag:noindex
X-PUBLISHED-TTL:PT1H
BEGIN:VTIMEZONE
TZID:Europe/Athens
BEGIN:DAYLIGHT
TZOFFSETFROM:+0200
TZOFFSETTO:+0300
TZNAME:EEST
DTSTART:20250330T010000
END:DAYLIGHT
BEGIN:STANDARD
TZOFFSETFROM:+0300
TZOFFSETTO:+0200
TZNAME:EET
DTSTART:20251026T010000
END:STANDARD
BEGIN:DAYLIGHT
TZOFFSETFROM:+0200
TZOFFSETTO:+0300
TZNAME:EEST
DTSTART:20260329T010000
END:DAYLIGHT
BEGIN:STANDARD
TZOFFSETFROM:+0300
TZOFFSETTO:+0200
TZNAME:EET
DTSTART:20261025T010000
END:STANDARD
BEGIN:DAYLIGHT
TZOFFSETFROM:+0200
TZOFFSETTO:+0300
TZNAME:EEST
DTSTART:20270328T010000
END:DAYLIGHT
BEGIN:STANDARD
TZOFFSETFROM:+0300
TZOFFSETTO:+0200
TZNAME:EET
DTSTART:20271031T010000
END:STANDARD
END:VTIMEZONE
BEGIN:VEVENT
DTSTART;TZID=Europe/Athens:20260308T180000
DTEND;TZID=Europe/Athens:20260308T203000
DTSTAMP:20260424T183837
CREATED:20260303T073902Z
LAST-MODIFIED:20260304T065459Z
UID:10000949-1772992800-1773001800@events.mytilene.gr
SUMMARY:Εκδήλωση με αφορμή την Παγκόσμια Ημέρα της Γυναίκας
DESCRIPTION:Εκδήλωση με αφορμή την Παγκόσμια Ημέρα της Γυναίκας διοργανώνει την Κυριακή\, 8 Μαρτίου\, στις 18:00\, στο Πολύκεντρο του Παπάδου «Οδυσσέας Ελύτης» η Δημοτική Ενότητα Γέρας και ο Δήμος Μυτιλήνης. \nΗ εκδήλωση είναι αφιερωμένη στη γυναίκα και στη δύναμη της ψυχής της και μεταξύ άλλων περιλαμβάνει ομιλίες από την Καθηγήτρια Ψυχολογίας του Πανεπιστημίου Αιγαίου\, Αναστασία Ζήση και τη Γενική Γραμματέα του Δήμου\, Όλγα Χιώτη\, βιωματική δράση με τίτλο «Η δύναμη έχει εκπρόσωπο» από τον Ξενώνα Φιλοξενίας Γυναικών θυμάτων βίας\, τραγούδια από την Χορωδία του Παγγεραγωτικού Συλλόγου καθώς και βράβευση γυναικών από χωριά της Γέρας.
URL:https://events.mytilene.gr/event/ekdilwsi-pagkosmia-imera-gynaikas/
LOCATION:Πολύκεντρο Παπάδου Γέρας
CATEGORIES:Εποχιακές,Συνέδρια
ATTACH;FMTTYPE=image/png:https://events.mytilene.gr/wp-content/uploads/2026/03/ΗΜΕΡΑ-ΤΗΣ-ΓΥΝΑΙΚΑΣ-2026-ΓΕΡΑ-v2.png
END:VEVENT
END:VCALENDAR