BEGIN:VCALENDAR
VERSION:2.0
PRODID:-//Mytilene Events - ECPv6.15.18//NONSGML v1.0//EN
CALSCALE:GREGORIAN
METHOD:PUBLISH
X-WR-CALNAME:Mytilene Events
X-ORIGINAL-URL:https://events.mytilene.gr
X-WR-CALDESC:Events for Mytilene Events
REFRESH-INTERVAL;VALUE=DURATION:PT1H
X-Robots-Tag:noindex
X-PUBLISHED-TTL:PT1H
BEGIN:VTIMEZONE
TZID:Europe/Athens
BEGIN:DAYLIGHT
TZOFFSETFROM:+0200
TZOFFSETTO:+0300
TZNAME:EEST
DTSTART:20240331T010000
END:DAYLIGHT
BEGIN:STANDARD
TZOFFSETFROM:+0300
TZOFFSETTO:+0200
TZNAME:EET
DTSTART:20241027T010000
END:STANDARD
BEGIN:DAYLIGHT
TZOFFSETFROM:+0200
TZOFFSETTO:+0300
TZNAME:EEST
DTSTART:20250330T010000
END:DAYLIGHT
BEGIN:STANDARD
TZOFFSETFROM:+0300
TZOFFSETTO:+0200
TZNAME:EET
DTSTART:20251026T010000
END:STANDARD
BEGIN:DAYLIGHT
TZOFFSETFROM:+0200
TZOFFSETTO:+0300
TZNAME:EEST
DTSTART:20260329T010000
END:DAYLIGHT
BEGIN:STANDARD
TZOFFSETFROM:+0300
TZOFFSETTO:+0200
TZNAME:EET
DTSTART:20261025T010000
END:STANDARD
END:VTIMEZONE
BEGIN:VEVENT
DTSTART;TZID=Europe/Athens:20250809T080000
DTEND;TZID=Europe/Athens:20250809T170000
DTSTAMP:20260423T072335
CREATED:20250528T085516Z
LAST-MODIFIED:20250528T085516Z
UID:10000203-1754726400-1754758800@events.mytilene.gr
SUMMARY:Λαϊκό αντάμωμα στο Ακράσι
DESCRIPTION:Λαϊκό μουσικοχορευτικό αντάμωμα στο χωριό Ακράσι με μουσική από το οκταμελές σχήμα του Βαγγέλη Σαραντίδη.
URL:https://events.mytilene.gr/event/%ce%bb%ce%b1%cf%8a%ce%ba%cf%8c-%ce%b1%ce%bd%cf%84%ce%ac%ce%bc%cf%89%ce%bc%ce%b1-%cf%83%cf%84%ce%bf-%ce%b1%ce%ba%cf%81%ce%ac%cf%83%ce%b9/
LOCATION:Ακράσι\, Ακράσι Λέσβου\, 81200
CATEGORIES:Πανηγύρια,Συναυλίες
ATTACH;FMTTYPE=image/jpeg:https://events.mytilene.gr/wp-content/uploads/2025/05/ΛΕΣΒΙΑΚΟ-ΚΑΛΟΚΑΙΡΙ-ΛΟΓΟΤΥΠΟ.jpg
END:VEVENT
BEGIN:VEVENT
DTSTART;TZID=Europe/Athens:20250810T080000
DTEND;TZID=Europe/Athens:20250810T170000
DTSTAMP:20260423T072336
CREATED:20250528T090335Z
LAST-MODIFIED:20250528T090452Z
UID:10000207-1754812800-1754845200@events.mytilene.gr
SUMMARY:Λαϊκό Αντάμωμα στα Κεραμιά
DESCRIPTION:Λαϊκό μουσικοχορευτικό αντάμωμα στα Κεραμιά με τη συμμετοχή τοπικού μουσικού σχήματος.
URL:https://events.mytilene.gr/event/%ce%bb%ce%b1%cf%8a%ce%ba%cf%8c-%ce%b1%ce%bd%cf%84%ce%ac%ce%bc%cf%89%ce%bc%ce%b1-%cf%83%cf%84%ce%b1-%ce%ba%ce%b5%cf%81%ce%b1%ce%bc%ce%b9%ce%ac/
LOCATION:Κεραμιά\, Κεραμιά Λέσβου\, 81101
CATEGORIES:Πανηγύρια
ATTACH;FMTTYPE=image/jpeg:https://events.mytilene.gr/wp-content/uploads/2025/05/ΛΕΣΒΙΑΚΟ-ΚΑΛΟΚΑΙΡΙ-ΛΟΓΟΤΥΠΟ.jpg
END:VEVENT
BEGIN:VEVENT
DTSTART;TZID=Europe/Athens:20250810T093000
DTEND;TZID=Europe/Athens:20250810T233000
DTSTAMP:20260423T072336
CREATED:20250528T090015Z
LAST-MODIFIED:20250528T090015Z
UID:10000205-1754818200-1754868600@events.mytilene.gr
SUMMARY:Λαϊκό Αντάμωμα στην Ευρειακή
DESCRIPTION:Λαϊκό μουσικοχορευτικό αντάμωμα στην Ευρειακή με τοπικό μουσικό σχήμα.
URL:https://events.mytilene.gr/event/%ce%bb%ce%b1%cf%8a%ce%ba%cf%8c-%ce%b1%ce%bd%cf%84%ce%ac%ce%bc%cf%89%ce%bc%ce%b1-%cf%83%cf%84%ce%b7%ce%bd-%ce%b5%cf%85%cf%81%ce%b5%ce%b9%ce%b1%ce%ba%ce%ae/
LOCATION:Ευρειακή\, Ευρειακή Λέσβου\, 81100
CATEGORIES:Πανηγύρια
ATTACH;FMTTYPE=image/jpeg:https://events.mytilene.gr/wp-content/uploads/2025/05/ΛΕΣΒΙΑΚΟ-ΚΑΛΟΚΑΙΡΙ-ΛΟΓΟΤΥΠΟ.jpg
END:VEVENT
BEGIN:VEVENT
DTSTART;TZID=Europe/Athens:20250815T213000
DTEND;TZID=Europe/Athens:20250815T213000
DTSTAMP:20260423T072336
CREATED:20250528T091712Z
LAST-MODIFIED:20250528T091828Z
UID:10000211-1755293400-1755293400@events.mytilene.gr
SUMMARY:Φεστιβάλ Τρίγωνα
DESCRIPTION:Μουσικοχορευτικό φεστιβάλ στο χωριό του Τρίγωνα στην περιοχή Πλωμαρίου με την συμμετοχή τοπικού μουσικού σχήματος.
URL:https://events.mytilene.gr/event/%cf%86%ce%b5%cf%83%cf%84%ce%b9%ce%b2%ce%ac%ce%bb-%cf%84%cf%81%ce%af%ce%b3%cf%89%ce%bd%ce%b1/
LOCATION:Τρίγωνας\, Τρίγωνας Λέσβου\, 81200
CATEGORIES:Πανηγύρια
ATTACH;FMTTYPE=image/jpeg:https://events.mytilene.gr/wp-content/uploads/2025/05/ΛΕΣΒΙΑΚΟ-ΚΑΛΟΚΑΙΡΙ-ΛΟΓΟΤΥΠΟ.jpg
END:VEVENT
BEGIN:VEVENT
DTSTART;TZID=Europe/Athens:20250815T213000
DTEND;TZID=Europe/Athens:20250815T233000
DTSTAMP:20260423T072336
CREATED:20250528T090927Z
LAST-MODIFIED:20250528T091057Z
UID:10000209-1755293400-1755300600@events.mytilene.gr
SUMMARY:Πανηγύρι στο Παλαιοχώρι
DESCRIPTION:Θρησκευτικό Πανηγύρι του Δεκαπενταύγουστου για την εορτή της Κοιμήσεως της Θεοτόκου στο χωριό Παλαιοχώρι της περιοχής Πλωμαρίου.
URL:https://events.mytilene.gr/event/%cf%80%ce%b1%ce%bd%ce%b7%ce%b3%cf%8d%cf%81%ce%b9-%cf%83%cf%84%ce%bf-%cf%80%ce%b1%ce%bb%ce%b1%ce%b9%ce%bf%cf%87%cf%8e%cf%81%ce%b9/
LOCATION:Παλαιοχώρι\, Παλαιοχώρι Λέσβου\, 81200
CATEGORIES:Πανηγύρια
ATTACH;FMTTYPE=image/jpeg:https://events.mytilene.gr/wp-content/uploads/2025/05/ΛΕΣΒΙΑΚΟ-ΚΑΛΟΚΑΙΡΙ-ΛΟΓΟΤΥΠΟ.jpg
END:VEVENT
BEGIN:VEVENT
DTSTART;TZID=Europe/Athens:20250816T080000
DTEND;TZID=Europe/Athens:20250816T170000
DTSTAMP:20260423T072336
CREATED:20250528T092322Z
LAST-MODIFIED:20250528T092338Z
UID:10000213-1755331200-1755363600@events.mytilene.gr
SUMMARY:Λαϊκό Αντάμωμα στο Νεοχώρι
DESCRIPTION:Μουσικοχορευτικό λαϊκό αντάμωμα στο χωριό του Νεοχωρίου\, με την συμμετοχή τοπικού μουσικού σχήματος.έσ
URL:https://events.mytilene.gr/event/%ce%bb%ce%b1%cf%8a%ce%ba%cf%8c-%ce%b1%ce%bd%cf%84%ce%ac%ce%bc%cf%89%ce%bc%ce%b1-%cf%83%cf%84%ce%bf-%ce%bd%ce%b5%ce%bf%cf%87%cf%8e%cf%81%ce%b9/
LOCATION:Νεοχώρι\, Νεοχώρι Λέσβου\, 81200
CATEGORIES:Πανηγύρια
ATTACH;FMTTYPE=image/jpeg:https://events.mytilene.gr/wp-content/uploads/2025/05/ΛΕΣΒΙΑΚΟ-ΚΑΛΟΚΑΙΡΙ-ΛΟΓΟΤΥΠΟ.jpg
END:VEVENT
BEGIN:VEVENT
DTSTART;TZID=Europe/Athens:20250820T213000
DTEND;TZID=Europe/Athens:20250820T213000
DTSTAMP:20260423T072336
CREATED:20250528T092656Z
LAST-MODIFIED:20250528T092803Z
UID:10000215-1755725400-1755725400@events.mytilene.gr
SUMMARY:Λαϊκό Αντάμωμα Λάμπου Μύλοι
DESCRIPTION:Μουσικοχορευτικό λαϊκό αντάμωμα στους Λάμπου Μύλους\, με την συμμετοχή τοπικού μουσικού σχήματος.
URL:https://events.mytilene.gr/event/%ce%bb%ce%b1%cf%8a%ce%ba%cf%8c-%ce%b1%ce%bd%cf%84%ce%ac%ce%bc%cf%89%ce%bc%ce%b1-%ce%bb%ce%ac%ce%bc%cf%80%ce%bf%cf%85-%ce%bc%cf%8d%ce%bb%ce%bf%ce%b9/
LOCATION:Δημοτικό Θέατρο Μυτιλήνης
CATEGORIES:Πανηγύρια
ATTACH;FMTTYPE=image/jpeg:https://events.mytilene.gr/wp-content/uploads/2025/05/ΛΕΣΒΙΑΚΟ-ΚΑΛΟΚΑΙΡΙ-ΛΟΓΟΤΥΠΟ.jpg
END:VEVENT
BEGIN:VEVENT
DTSTART;TZID=Europe/Athens:20250822T080000
DTEND;TZID=Europe/Athens:20250822T170000
DTSTAMP:20260423T072336
CREATED:20250528T093036Z
LAST-MODIFIED:20250528T093136Z
UID:10000217-1755849600-1755882000@events.mytilene.gr
SUMMARY:Λαϊκό Αντάμωμα στα Λουτρά
DESCRIPTION:Μουσικοχορευτικό λαϊκό αντάμωμα στο χωριό των Λουτρών\, με την συμμετοχή τοπικού μουσικού σχήματος.
URL:https://events.mytilene.gr/event/%ce%bb%ce%b1%cf%8a%ce%ba%cf%8c-%ce%b1%ce%bd%cf%84%ce%ac%ce%bc%cf%89%ce%bc%ce%b1-%cf%83%cf%84%ce%b1-%ce%bb%ce%bf%cf%85%cf%84%cf%81%ce%ac/
LOCATION:Λουτρά\, Λουτρά Λέσβου\, 81100
CATEGORIES:Πανηγύρια
ATTACH;FMTTYPE=image/jpeg:https://events.mytilene.gr/wp-content/uploads/2025/05/ΛΕΣΒΙΑΚΟ-ΚΑΛΟΚΑΙΡΙ-ΛΟΓΟΤΥΠΟ.jpg
END:VEVENT
BEGIN:VEVENT
DTSTART;TZID=Europe/Athens:20250822T080000
DTEND;TZID=Europe/Athens:20250822T170000
DTSTAMP:20260423T072336
CREATED:20250528T093326Z
LAST-MODIFIED:20250528T093430Z
UID:10000219-1755849600-1755882000@events.mytilene.gr
SUMMARY:Λαϊκό Αντάμωμα στον Ασώματο
DESCRIPTION:Μουσικοχορευτικό λαϊκό αντάμωμα στο χωριό του Ασώματου\, με την συμμετοχή τοπικού μουσικού σχήματος.
URL:https://events.mytilene.gr/event/%ce%bb%ce%b1%cf%8a%ce%ba%cf%8c-%ce%b1%ce%bd%cf%84%ce%ac%ce%bc%cf%89%ce%bc%ce%b1-%cf%83%cf%84%ce%bf%ce%bd-%ce%b1%cf%83%cf%8e%ce%bc%ce%b1%cf%84%ce%bf/
LOCATION:Ασώματος\, Ασώματος Λέσβου\, 81101
CATEGORIES:Πανηγύρια
ATTACH;FMTTYPE=image/jpeg:https://events.mytilene.gr/wp-content/uploads/2025/05/ΛΕΣΒΙΑΚΟ-ΚΑΛΟΚΑΙΡΙ-ΛΟΓΟΤΥΠΟ.jpg
END:VEVENT
BEGIN:VEVENT
DTSTART;TZID=Europe/Athens:20250823T210000
DTEND;TZID=Europe/Athens:20250823T233000
DTSTAMP:20260423T072336
CREATED:20250820T124825Z
LAST-MODIFIED:20250820T124825Z
UID:10000315-1755982800-1755991800@events.mytilene.gr
SUMMARY:Γιορτή χταποδιού στις Νέες Κυδωνίες
DESCRIPTION:Επιστρέφει για ακόμη μια χρονιά η Γιορτή Χταποδιού\, που διοργανώνει ο Πολιτιστικός Σύλλογος «Το Αϊβαλί της Λέσβου». Η εκδήλωση θα πραγματοποιηθεί το Σάββατο 23 Αυγούστου\, στις 21:00\, στην παιδική χαρά των Νέων Κυδωνιών. \nΣτη γιορτή αυτή  κυριαρχεί το χταπόδι\, μαγειρεμένο σε διάφορες εκδοχές\, συνοδευμένο από ούζο και μεζέδες\, σε ένα γνήσιο νησιώτικο γλέντι. \nΤο πρόγραμμα περιλαμβάνει και χορευτικά συγκροτήματα\, που θα πλαισιώσουν τη βραδιά με παραδοσιακούς χορούς\, προσφέροντας ένα πλούσιο πολιτιστικό θέαμα και ενισχύοντας την αίσθηση γιορτής και κοινότητας.
URL:https://events.mytilene.gr/event/%ce%b3%ce%b9%ce%bf%cf%81%cf%84%ce%ae-%cf%87%cf%84%ce%b1%cf%80%ce%bf%ce%b4%ce%b9%ce%bf%cf%8d-%cf%83%cf%84%ce%b9%cf%82-%ce%bd%ce%ad%ce%b5%cf%82-%ce%ba%cf%85%ce%b4%cf%89%ce%bd%ce%af%ce%b5%cf%82/
LOCATION:Νέες Κυδωνίες
CATEGORIES:Πανηγύρια
ATTACH;FMTTYPE=image/jpeg:https://events.mytilene.gr/wp-content/uploads/2025/08/nees-kydonies1.jpg
END:VEVENT
BEGIN:VEVENT
DTSTART;TZID=Europe/Athens:20250823T213000
DTEND;TZID=Europe/Athens:20250823T233000
DTSTAMP:20260423T072336
CREATED:20250528T093633Z
LAST-MODIFIED:20250818T085157Z
UID:10000313-1755984600-1755991800@events.mytilene.gr
SUMMARY:Γιορτή Ψαράδων στην Παναγιούδα
DESCRIPTION:“Γιορτή των Ψαράδων” με την συμμετοχή τοπικού μουσικού συγκροτήματος στο Φοινικόδασος της Παναγιούδας.
URL:https://events.mytilene.gr/event/%ce%b3%ce%b9%ce%bf%cf%81%cf%84%ce%ae-%cf%88%ce%b1%cf%81%ce%ac%ce%b4%cf%89%ce%bd-%cf%83%cf%84%ce%b7%ce%bd-%cf%80%ce%b1%ce%bd%ce%b1%ce%b3%ce%b9%ce%bf%cf%8d%ce%b4%ce%b1/
LOCATION:Φοινικόδασος Παναγιούδας\, Παναγιούδα Λέσβου\, 81100
CATEGORIES:Πανηγύρια,Φεστιβάλ
ATTACH;FMTTYPE=image/jpeg:https://events.mytilene.gr/wp-content/uploads/2025/05/ΛΕΣΒΙΑΚΟ-ΚΑΛΟΚΑΙΡΙ-ΛΟΓΟΤΥΠΟ.jpg
END:VEVENT
BEGIN:VEVENT
DTSTART;TZID=Europe/Athens:20250823T213000
DTEND;TZID=Europe/Athens:20250823T233000
DTSTAMP:20260423T072336
CREATED:20250528T094158Z
LAST-MODIFIED:20250528T094322Z
UID:10000221-1755984600-1755991800@events.mytilene.gr
SUMMARY:"Βενιαμίνεια" 2025 στο Μεγαλοχώρι
DESCRIPTION:Στο πλαίσιο των ετήσιων εορτασμών προς τιμήν του σπουδαίου Δασκάλου του Γένους\, Φιλόσοφου και Αγωνιστή του 1821 Βενιαμίν διοργανώνεται στο Μεγαλοχώρι εορταστκή εκδήλωση με τη συμμετοχή παραδοσιακών τοπικών συγκροτημάτων .
URL:https://events.mytilene.gr/event/%ce%b2%ce%b5%ce%bd%ce%b9%ce%b1%ce%bc%ce%af%ce%bd%ce%b5%ce%b9%ce%b1-2025-%cf%83%cf%84%ce%bf-%ce%bc%ce%b5%ce%b3%ce%b1%ce%bb%ce%bf%cf%87%cf%8e%cf%81%ce%b9/
LOCATION:Μεγαλοχώρι\, Μεγαλοχώρι Λέσβου\, 81200
CATEGORIES:Πανηγύρια,Φεστιβάλ
ATTACH;FMTTYPE=image/jpeg:https://events.mytilene.gr/wp-content/uploads/2025/05/ΛΕΣΒΙΑΚΟ-ΚΑΛΟΚΑΙΡΙ-ΛΟΓΟΤΥΠΟ.jpg
END:VEVENT
BEGIN:VEVENT
DTSTART;TZID=Europe/Athens:20250824T213000
DTEND;TZID=Europe/Athens:20250824T233000
DTSTAMP:20260423T072336
CREATED:20250528T094555Z
LAST-MODIFIED:20250528T094818Z
UID:10000223-1756071000-1756078200@events.mytilene.gr
SUMMARY:Πανηγύρι Αγίου Ερμογένη
DESCRIPTION:Θρησκευτικό πανηγύρι του Αγίου Ερμογένη στην ομώνυμη τοποθεσία που βρίσκεται η εκκλησία με την συμμετοχή τοπικού μουσικού σχήματος.
URL:https://events.mytilene.gr/event/%cf%80%ce%b1%ce%bd%ce%b7%ce%b3%cf%8d%cf%81%ce%b9-%ce%b1%ce%b3%ce%af%ce%bf%cf%85-%ce%b5%cf%81%ce%bc%ce%bf%ce%b3%ce%ad%ce%bd%ce%b7/
LOCATION:Άγιος Ερμογένης
CATEGORIES:Πανηγύρια
ATTACH;FMTTYPE=image/jpeg:https://events.mytilene.gr/wp-content/uploads/2025/05/ΛΕΣΒΙΑΚΟ-ΚΑΛΟΚΑΙΡΙ-ΛΟΓΟΤΥΠΟ.jpg
END:VEVENT
BEGIN:VEVENT
DTSTART;TZID=Europe/Athens:20250830T183000
DTEND;TZID=Europe/Athens:20250831T100000
DTSTAMP:20260423T072336
CREATED:20250826T094236Z
LAST-MODIFIED:20250826T094236Z
UID:10000322-1756578600-1756634400@events.mytilene.gr
SUMMARY:Ερμογένεια 2025
DESCRIPTION:Για πρώτη φορά στον Άγιο Ερμογένη Λουτρών διοργανώνονται τα «Ερμογένεια».  Ένα διήμερο εκδηλώσεων με ποδηλασία\, μουσική\, χορό\, Πανηγυρική Θεία Λειτουργία και κεράσματα. \nΣάββατο 30 Αυγούστου \n18:30: Ποδηλατάδα από τα Λουτρά (Θέση Αλωνέλλη) προς τον Άγιο Ερμογένη. \n21:00: Λαϊκό γλέντι στον Άγιο Ερμογένη με ζωντανή ορχήστρα και τα χορευτικά τμήματα του χωριού. \nΚυριακή 31 Αυγούστου \n08:00: Πανηγυρική Θεία Λειτουργία και περιφορά\, με κεράσματα φαγητού και παγωτού για όλους τους παρευρισκόμενους. \nΗ διοργάνωση γίνεται από τη Δ.Κ. Λουτρών και τον Πολιτιστικό Σύλλογο Λουτρών «Λιοστάσι»\, με την υποστήριξη των Γιατρών του Κόσμου και τη χορηγία της ταβέρνας «Άγιος Ερμογένης»\, του catering Elaitis και του Δήμου Μυτιλήνης.
URL:https://events.mytilene.gr/event/%ce%b5%cf%81%ce%bc%ce%bf%ce%b3%ce%ad%ce%bd%ce%b5%ce%b9%ce%b1-2025/
LOCATION:Άγιος Ερμογένης
CATEGORIES:Έθιμα,Πανηγύρια
ATTACH;FMTTYPE=image/jpeg:https://events.mytilene.gr/wp-content/uploads/2025/08/514355738-1333402172125163-7792297416810750265-n-723x1024-1.jpg
END:VEVENT
END:VCALENDAR