BEGIN:VCALENDAR
VERSION:2.0
PRODID:-//Mytilene Events - ECPv6.15.18//NONSGML v1.0//EN
CALSCALE:GREGORIAN
METHOD:PUBLISH
X-WR-CALNAME:Mytilene Events
X-ORIGINAL-URL:https://events.mytilene.gr
X-WR-CALDESC:Events for Mytilene Events
REFRESH-INTERVAL;VALUE=DURATION:PT1H
X-Robots-Tag:noindex
X-PUBLISHED-TTL:PT1H
BEGIN:VTIMEZONE
TZID:Europe/Athens
BEGIN:DAYLIGHT
TZOFFSETFROM:+0200
TZOFFSETTO:+0300
TZNAME:EEST
DTSTART:20240331T010000
END:DAYLIGHT
BEGIN:STANDARD
TZOFFSETFROM:+0300
TZOFFSETTO:+0200
TZNAME:EET
DTSTART:20241027T010000
END:STANDARD
BEGIN:DAYLIGHT
TZOFFSETFROM:+0200
TZOFFSETTO:+0300
TZNAME:EEST
DTSTART:20250330T010000
END:DAYLIGHT
BEGIN:STANDARD
TZOFFSETFROM:+0300
TZOFFSETTO:+0200
TZNAME:EET
DTSTART:20251026T010000
END:STANDARD
BEGIN:DAYLIGHT
TZOFFSETFROM:+0200
TZOFFSETTO:+0300
TZNAME:EEST
DTSTART:20260329T010000
END:DAYLIGHT
BEGIN:STANDARD
TZOFFSETFROM:+0300
TZOFFSETTO:+0200
TZNAME:EET
DTSTART:20261025T010000
END:STANDARD
END:VTIMEZONE
BEGIN:VEVENT
DTSTART;TZID=Europe/Athens:20250801T200000
DTEND;TZID=Europe/Athens:20250808T230000
DTSTAMP:20260420T112235
CREATED:20250529T063725Z
LAST-MODIFIED:20250529T063725Z
UID:10000239-1754078400-1754694000@events.mytilene.gr
SUMMARY:Φωτογραφική έκθεση από τη ΦΕΜ
DESCRIPTION:Η Φωτογραφική Εταιρεία Μυτιλήνης\, για ακόμη μια χρονιά και αυτό το καλοκαίρι\, δίνει δυναμικά το παρόν\, παρουσιάζοντας στους πολίτες και τους επισκέπτες της πόλης και του νησιού\, τη πολύμορφη δουλειά της\, μέσα από την καθιερωμένη ομαδική έκθεση των μελών της.\nΣτη φετινή έκθεση με ελεύθερο θέμα\, θα περιπλανηθείτε ανάμεσα σε φωτογραφικές αφηγήσεις\, διαφορετικές μεταξύ τους\, που έχουν καμβά τη ζωή και έμπνευση τον άνθρωπο\, τη φύση\, τον τόπο που αγαπάμε\, τον πολιτισμό\, το ταξίδι… και που κουβαλούν τη σφραγίδα της προσωπικότητας του κάθε μετέχοντα\, στήνοντας παιχνίδι με το φως\, το χρώμα και τις σκιές\, ένα παιχνίδι στο οποίο είμαστε όλοι καλεσμένοι.\nΜέσα από τις φωτογραφίες τους\, τα μέλη της φωτογραφικής μας ομάδας\, αποδεικνύουν για ακόμη μία φορά\, πως η εικόνα\, ανάλογα με τον τρόπο παρουσιάζεται\, μπορεί να αναδείξει τη δύναμη συμβολισμών και μηνυμάτων\, αγγίζοντας τη ψυχή και το θυμικό του ανθρώπου. \nΣυντελεστές: Μέλη της Φωτογραφικής Εταιρείας Μυτιλήνης
URL:https://events.mytilene.gr/event/%cf%86%cf%89%cf%84%ce%bf%ce%b3%cf%81%ce%b1%cf%86%ce%b9%ce%ba%ce%ae-%ce%ad%ce%ba%ce%b8%ce%b5%cf%83%ce%b7-%ce%b1%cf%80%cf%8c-%cf%84%ce%b7-%cf%86%ce%b5%ce%bc/
LOCATION:Πλατεία Σαπφούς\, Π. Κουντουριώτου\, Μυτιλήνη\, 81100\, Greece
CATEGORIES:Εκθέσεις
ATTACH;FMTTYPE=image/jpeg:https://events.mytilene.gr/wp-content/uploads/2025/05/IMG_0339-1-scaled.jpg
END:VEVENT
BEGIN:VEVENT
DTSTART;TZID=Europe/Athens:20250725T180000
DTEND;TZID=Europe/Athens:20250813T220000
DTSTAMP:20260420T112235
CREATED:20250529T062001Z
LAST-MODIFIED:20250529T081647Z
UID:10000236-1753466400-1755122400@events.mytilene.gr
SUMMARY:Έκθεση βιβλίου στο Μύλο Περάματος
DESCRIPTION:Έκθεση βιβλίου θα πραγματοποιηθεί στον Μύλο του Περάματος από την Παρασκευή 25 Ιουλίου έως και Τετάρτη 13 Αυγούστου.
URL:https://events.mytilene.gr/event/%ce%ad%ce%ba%ce%b8%ce%b5%cf%83%ce%b7-%ce%b2%ce%b9%ce%b2%ce%bb%ce%af%ce%bf%cf%85-%cf%83%cf%84%ce%bf-%ce%bc%cf%8d%ce%bb%ce%bf-%cf%80%ce%b5%cf%81%ce%ac%ce%bc%ce%b1%cf%84%ce%bf%cf%82/
LOCATION:Μύλος Περάματος Γέρας
CATEGORIES:Εκθέσεις
ATTACH;FMTTYPE=image/jpeg:https://events.mytilene.gr/wp-content/uploads/2025/05/556_0.jpg
END:VEVENT
BEGIN:VEVENT
DTSTART;TZID=Europe/Athens:20250706T193000
DTEND;TZID=Europe/Athens:20250711T223000
DTSTAMP:20260420T112235
CREATED:20250529T045946Z
LAST-MODIFIED:20250702T083613Z
UID:10000227-1751830200-1752273000@events.mytilene.gr
SUMMARY:5η Έκθεση Βιβλίου «Στράτης Μυριβήλης»
DESCRIPTION:Την Κυριακή 6 Ιουλίου στις 19:30 το απόγευμα ανοίγει τις πόρτες της στο κοινό η 5η Έκθεση Βιβλίου «Στράτης Μυριβήλης»\, που διοργανώνει ο Δήμος Μυτιλήνης στο Πάρκο Αγίας Ειρήνης\, με τη διοργάνωση να εντάσσεται στις δράσεις του φετινού Λεσβιακού Καλοκαιριού. \nΣτο πλαίσιο της έκθεσης\, που θα λειτουργεί από τις 19:30 έως τις 22:30 έως και την Παρασκευή 11 Ιουλίου\, θα πραγματοποιηθούν οι παρακάτω εκδηλώσεις: \nΚυριακή 6/7 \n19:30 – Παρουσίαση παιδικού βιβλίου «Ως την άκρη του ονείρου» της Ιωάννας Πατίου\, από το Copy Center \n21:00 – Εκδήλωση «Ψηφιοποιώ την Ιστορία του Τόπου μου» από την Δημοτική Βιβλιοθήκη «Ευγενία Κλειδαρά» \nΤο Δημοτικό Σχολείο Λουτροπόλεως Θερμής παρουσιάζει διηγήματα μαθητών\, που βραβεύτηκαν σε πανελλήνιους και παλλεσβιακούς διαγωνισμούς και θα φιλοξενείται έκθεση με τις εφημερίδες του σχολείου\, που συμπληρώνουν το αφιέρωμα στην τοπική ιστορία και την εκπαιδευτική δραστηριότητα. \nΔευτέρα 7/7 \n19:30 – Παρουσίαση βιβλίων «Η Φλόγα της Επανάστασης» και «Ηλιακτίδες Αγκαλιάς στο Πεντάγραμμο της Αγάπης» του Δρ. Μανιάτη Παράσχου (Πάρη)\, από το Copy Center \n21:00 – Εγκαίνια της 5ης Έκθεσης Βιβλίου «Στράτης Μυριβήλης» από τον Δήμο Μυτιλήνης \nΠαρουσίαση της συλλογής διηγημάτων Ελλήνων συγγραφέων με τίτλο «Εκεί που θροΐζουν οι Ελαιώνες». Για τη συμμετοχή τους στο βιβλίο θα μιλήσουν δύο από τις συγγραφείς\, η Πηνελόπη Κουρτζή και η Άννα Γαλανού και θα ακολουθήσει συναυλία με τους Magma. \nΤρίτη 8/7 \n20:30 – Παρουσίαση βιβλίου «Λεσβιακό Ημερολόγιο 2025» του Παναγιώτη Σκορδά\, από τα βιβλιοπωλεία\, Λύχνος\, Πάπυρος\, Φωτίου και Χατζηδανιήλ \nΓια το βιβλίο θα μιλήσουν η Καθηγήτρια του Τμήματος Κοινωνιολογίας Πανεπιστημίου Αιγαίου Αναστασία Ζήση\, η Καθηγήτρια του Τμήματος Πολιτισμικής Τεχνολογίας και Επικοινωνίας Πανεπιστημίου Αιγαίου Εύη Σαμπανίκου και ο επιμελητής της έκδοσης και συγγραφέας Παναγιώτης Σκορδάς. \nΤετάρτη 9/7 \n20:30 – Παρουσίαση βιβλίου «Η Γέρα στο πέρασμα των αιώνων» του Αριστείδη Καλάργαλη\, από τα βιβλιοπωλεία Λύχνος\, Πάπυρος\, Φωτίου και Χατζηδανιήλ \nΓια το βιβλίο θα μιλήσουν η Καθηγήτρια του Τμήματος Κοινωνιολογίας Πανεπιστημίου Αιγαίου Αναστασία Ζήση\, ο ιατρός\, συγγραφέας και ερευνητής Δρ. Μάκης Αξιώτης και ο συγγραφέας του βιβλίου Δρ. Αριστείδης Καλάργαλης. \nΠέμπτη 10/7 \n19:30 – Παρουσίαση παιδικού βιβλίου «Η ΓΟΡΓΟΝΑ ΤΩΝ ΝΑΥΑΓΩΝ ΚΑΙ Ο ΚΙΘΑΡΩΔΟΣ ΤΟΥ ΑΙΓΑΙΟΥ» της Αθανασίας Δαφιώτη\, από το βιβλιοπωλείο Πάπυρος \nΗ συγγραφέας Αθανασία Δαφιώτη θα μας γνωρίσει το βιβλίο της «Η ΓΟΡΓΟΝΑ ΤΩΝ ΝΑΥΑΓΩΝ ΚΑΙ Ο ΚΙΘΑΡΩΔΟΣ ΤΟΥ ΑΙΓΑΊΟΥ»\, που ζουν στην Μυτιλήνη. Θα υπογράψει τα βιβλία της\, θα κάνει ζωγραφική προσώπου\, θα ακουστεί η αφήγηση του παραμυθιού και θα δούμε παιχνίδια από το βιβλίο. Θα δοθούν αναμνηστικά δωράκια με κάθε αγορά από το βιβλιοχαρτοπωλείο Πάπυρος. \n20:30 – Παρουσίαση βιβλίου «Σαπφώ\, λόγος και ποίηση» της Μαρία Βρανά – Παπάλα\, από τις εκδόσεις Reprographics – Αντωνία Σάββα \nΓια το βιβλίο θα μιλήσουν η συγγραφέας Μαρία Βρανά – Παπάλα\, η συγγραφέας Πόπη Κλειδαρά και ο εκπαιδευτικός Τζάννος Στεφανέλλης. Θα ακουστούν μελοποιημένα τραγούδια της Μαρίας Βρανά – Παπάλα σε σύνθεση του Αντώνη Σπούλου και ερμηνείες από Κορνηλία Δεσλή\, Αθηνά Πιπίνη και Πλουσία Ηλία. Θα ακολουθήσει έντεχνο πρόγραμμα. \nΠαρασκευή 11/7 \n19:30 – Παιδική Εκδήλωση «Το Δέντρο της Λεσβιακής Άνοιξης» για παιδιά 8–14 ετών \nΔράση για παιδιά\, αφιερωμένη στη Λεσβιακή Άνοιξη. Οι μικροί συμμετέχοντες γνωρίζουν συγγραφείς\, υποδύονται ρόλους\, ξεστολίζουν το «Δέντρο των Συγγραφέων» και δημιουργούν ένα βιβλίο μνήμης με λόγια και χρώματα. \n20:30 – Παρουσίαση βιβλίου «Ανθολόγιο Ένωσης Λογοτεχνών Αιγαίου 2025» \nΤην εκδήλωση θα χαιρετήσει η Πρόεδρος της Ε.Λ.Α. Στέλλα Πετρίδου. Θα συντονίσει η Γεν. Γραμματέας της Ε.Λ.Α. Μαρία Βρανά-Παπάλα. Αποσπάσματα θα διαβάσουν οι ανθολογούμενοι συγγραφείς. \nΘα ακολουθήσει συναυλία με τη Χαρά Κουτρολού και τον Γιάννη Βαφιώτη. \n— \nΗ Δημοτική Βιβλιοθήκη Μυτιλήνης συμμετέχει στην Έκθεση Βιβλίου με ένα ιδιαίτερο αφιέρωμα στους ποιητές και λογοτέχνες της Λεσβιακής Άνοιξης\, τιμώντας μια από τις σημαντικότερες περιόδους της λογοτεχνικής ιστορίας του νησιού. Στο πλαίσιο του αφιερώματος\, θα πραγματοποιηθεί έκθεση αρχειακού υλικού\, η οποία περιλαμβάνει εφημερίδες και περιοδικά από το προσωπικό αρχείο του Παναγιώτη Σκορδά.
URL:https://events.mytilene.gr/event/5%ce%b7-%ce%ad%ce%ba%ce%b8%ce%b5%cf%83%ce%b7-%ce%b2%ce%b9%ce%b2%ce%bb%ce%af%ce%bf%cf%85-%cf%83%cf%84%cf%81%ce%ac%cf%84%ce%b7%cf%82-%ce%bc%cf%85%cf%81%ce%b9%ce%b2%ce%ae%ce%bb%ce%b7%cf%82/
LOCATION:Πάρκο Αγίας Ειρήνης\, Κωνσταντινουπόλεως\, Μυτιλήνη\, Λέσβος\, Greece
CATEGORIES:Εκθέσεις,Παρουσιάσεις Βιβλίων
ATTACH;FMTTYPE=image/png:https://events.mytilene.gr/wp-content/uploads/2025/05/5Η-ΕΚΘΕΣΗ-ΒΙΒΛΙΟΥ-ΜΥΤΙΛΗΝΗΣ-ΣΤΡΑΤΗΣ-ΜΥΡΙΒΗΛΗΣ.png
END:VEVENT
BEGIN:VEVENT
DTSTART;TZID=Europe/Athens:20250616T220000
DTEND;TZID=Europe/Athens:20250616T220000
DTSTAMP:20260420T112235
CREATED:20250527T071544Z
LAST-MODIFIED:20250527T071604Z
UID:10000170-1750111200-1750111200@events.mytilene.gr
SUMMARY:Παρουσίαση Βιβλίου '' Ρωμανού Μελωδού 23''
DESCRIPTION:Παρουσίαση Βιβλίου του Σωκράτη Μαντζουράνη με τίτλο “Ρωμανού Μελωδού 23”.
URL:https://events.mytilene.gr/event/%cf%80%ce%b1%cf%81%ce%bf%cf%85%cf%83%ce%af%ce%b1%cf%83%ce%b7-%ce%b2%ce%b9%ce%b2%ce%bb%ce%af%ce%bf%cf%85-%cf%81%cf%89%ce%bc%ce%b1%ce%bd%ce%bf%cf%8d-%ce%bc%ce%b5%ce%bb%cf%89%ce%b4%ce%bf%cf%8d-23/
LOCATION:Δημοτικό Θέατρο Μυτιλήνης
CATEGORIES:Εκθέσεις
ATTACH;FMTTYPE=image/jpeg:https://events.mytilene.gr/wp-content/uploads/2025/05/6831e3cb2fca2.jpg
END:VEVENT
BEGIN:VEVENT
DTSTART;TZID=Europe/Athens:20250605T190000
DTEND;TZID=Europe/Athens:20250605T210000
DTSTAMP:20260420T112235
CREATED:20250603T085146Z
LAST-MODIFIED:20250603T085146Z
UID:10000280-1749150000-1749157200@events.mytilene.gr
SUMMARY:Ζωγραφίζω όπως ονειρεύομαι την πόλη που θέλω να ζω
DESCRIPTION:Με αφορμή την Παγκόσμια Ημέρα Περιβάλλοντος που γιορτάζεται κάθε χρόνο στις 5 Ιουνίου\, ο Δήμος Μυτιλήνης\, μέσω της Αντιδημαρχίας Περιβάλλοντος και της ΔΕΔΑΠΑΛ\, διοργανώνει έκθεση ζωγραφικής\, στα Τσαμάκια\, την Πέμπτη 5 Ιουνίου στις 7μ.μ. με τις ζωγραφιές των παιδιών που συμμετείχαν στο σχολικό διαγωνισμό «Ζωγραφίζω όπως ονειρεύομαι την πόλη που θέλω να ζω». \nΣτην εκδήλωση θα γίνουν και παιχνίδια ανακύκλωσης από τον Σύλλογο «Λέσβος χωρίς πλαστικά»\, καθώς και η απονομή βραβείων των νικητών του διαγωνισμού.
URL:https://events.mytilene.gr/event/%ce%b6%cf%89%ce%b3%cf%81%ce%b1%cf%86%ce%af%ce%b6%cf%89-%cf%8c%cf%80%cf%89%cf%82-%ce%bf%ce%bd%ce%b5%ce%b9%cf%81%ce%b5%cf%8d%ce%bf%ce%bc%ce%b1%ce%b9-%cf%84%ce%b7%ce%bd-%cf%80%cf%8c%ce%bb%ce%b7-%cf%80/
LOCATION:Πλαζ Τσαμάκια\, 8η Νοεμβρίου 29\, Μυτιλήνη\, 81100\, Greece
CATEGORIES:Για Παιδιά,Δράσεις,Εκθέσεις
ATTACH;FMTTYPE=image/webp:https://events.mytilene.gr/wp-content/uploads/2025/06/1.-Clipboard.webp
END:VEVENT
BEGIN:VEVENT
DTSTART;TZID=Europe/Athens:20250503T200000
DTEND;TZID=Europe/Athens:20250503T220000
DTSTAMP:20260420T112235
CREATED:20250502T060528Z
LAST-MODIFIED:20250502T060528Z
UID:10000108-1746302400-1746309600@events.mytilene.gr
SUMMARY:Έκθεση Φωτογραφίας της Αντιγόνης Κουράκου
DESCRIPTION:Η Φωτογραφική Εταιρεία Μυτιλήνης με μεγάλη χαρά καλωσορίζει\, τη φωτογράφο Αντιγόνη Κουράκου\, στη πόλη της Μυτιλήνης\, όπου θα εκθέσει τη πραγματικά εντυπωσιακή δουλειά της. Τα εγκαίνια της έκθεσης θα πραγματοποιηθούν το Σάββατο 3 Μαΐου 2025 στις 8 το απόγευμα\, στον εκθεσιακό χώρο της ΦΕΜ στο Κάτω Κάστρο Μυτιλήνης\, με τη παρουσία της φωτογράφου. \nΗ έκθεση θα είναι επισκέψιμη Δευτέρα 5 Μαΐου έως Τετάρτη 7 Μαΐου\, 7-9 το απόγευμα και η είσοδος θα είναι ελεύθερη. ARTIST STATEMENT «Η πρακτική μου είναι μία δημιουργική διαδικασία ανοιχτή σε ερεθίσματα που αναδύονται κατά τη διάρκεια της φωτογράφισης. Έναυσμα μπορεί να αποτελέσει ένα συγκεκριμένο βλέμμα\, μία πόζα που εκ- φράζει τα συναισθήματά μου ή μία λεπτομέρεια που με εντυπωσιάζει ως όμορφη και συγκινητική. \nΌλα αυτά τα στοιχεία συνδυάζονται για να δημιουργήσουν μία αισθητική αντανάκλαση της εσωτερικής μου ύπαρξης —έναν δικό μου κόσμο — όπου σκέψεις\, αγωνίες και επιθυμίες βρίσκουν μία θέση και μπορούν να εκφραστούν συμβολικά. Μέσα σε ένα καθορισμένο πλαίσιο\, τα μοντέλα\, κυρίως γυναίκες —συχνά ηθοποιοί\, χορεύτριες και ερμηνεύτριες— καλούνται να γίνουν μέρος αυτού του κόσμου\, να παίξουν έναν ρόλο και να μεταμορφωθούν. \nH προσέγγιση αυτή βασίζεται στον αυτοσχεδιασμό\, δίνοντας έμφαση στα αυθόρμητα αποτελέσματα μέσω της συνεργασίας και της αλληλεπίδρασης χωρίς να περιορίζεται από άκαμπτες κατευθυντήριες οδηγίες. Επικεντρώνομαι όχι μόνο στην απεικόνιση της ανθρώπινης μορφής\, στις κινήσεις του σώματος και τις γλυπτικές στάσεις των μοντέλων αλλά και στα φυσικά στοιχεία και το περιβάλλον. \nΑυτό έχει ως αποτέλεσμα την ενσωμάτωση τοπίων και νεκρής φύσης στο έργο μου\, που απεικονίζονται με λιγότερο περιγραφικό τρόπο. Ο κύριος στόχος μου είναι να δημιουργήσω μία συγκεκριμένη διάθεση ή ατμόσφαιρα αντί να παρέχω μία ακριβή και λεπτομερή αναπαράσταση του θέματος. Πρόθεσή μου είναι να μεταφέρω μία αίσθηση του παρόντος πέρα από μία κυριολεκτική ερμηνεία \, να συλλάβω μία πιο βαθιά και υποκειμενική πραγματικότητα ενσωματωμένη σε ένα ευφάνταστο και συμβολικό πλαίσιο. Δεν δουλεύω συνήθως σε συγκεκριμένες θεματικές ή ενότητες. \nΟι φωτογραφίες μου θα πρέπει να θεωρηθούν περισσότερο ως «θραύσματα»\, κομμάτια ενός συνόλου που δεν αποκαλύπτεται στην απόλυτη μορφή του.»
URL:https://events.mytilene.gr/event/%ce%ad%ce%ba%ce%b8%ce%b5%cf%83%ce%b7-%cf%86%cf%89%cf%84%ce%bf%ce%b3%cf%81%ce%b1%cf%86%ce%af%ce%b1%cf%82-%cf%84%ce%b7%cf%82-%ce%b1%ce%bd%cf%84%ce%b9%ce%b3%cf%8c%ce%bd%ce%b7%cf%82-%ce%ba%ce%bf%cf%85/
LOCATION:Εκθεσιακος Χωρος ΦΕΜ Κατω Καστρο Μυτιληνης\, Μικράς Ασίας\, Μυτιλήνη\, 81100\, Greece
CATEGORIES:Εκθέσεις
ATTACH;FMTTYPE=image/jpeg:https://events.mytilene.gr/wp-content/uploads/2025/05/6811fbb4adf8b.jpg
ORGANIZER;CN="%CE%A6%CF%89%CF%84%CE%BF%CE%B3%CF%81%CE%B1%CF%86%CE%B9%CE%BA%CE%B7 %CE%95%CF%84%CE%B1%CE%B9%CF%81%CE%B5%CE%AF%CE%B1 %CE%9C%CF%85%CF%84%CE%B9%CE%BB%CE%AE%CE%BD%CE%B7%CF%82 (%CE%A6%CE%95%CE%9C)":MAILTO:photo@fem.gr
END:VEVENT
BEGIN:VEVENT
DTSTART;TZID=Europe/Athens:20250329T200000
DTEND;TZID=Europe/Athens:20250329T210000
DTSTAMP:20260420T112235
CREATED:20250319T071602Z
LAST-MODIFIED:20250319T071602Z
UID:10000057-1743278400-1743282000@events.mytilene.gr
SUMMARY:Έκθεση Φωτογραφίας της Μαριλένας Φιλαΐτη με θέμα «One Stand By Night»
DESCRIPTION:Η Φωτογραφική Εταιρεία Μυτιλήνης (ΦΕΜ) με μεγάλη χαρά καλωσορίζει\, τη φωτογράφο Μαριλένα Φιλαΐτη\, στη πόλη της Μυτιλήνης\, όπου θα εκθέσει τη πρωτότυπη και ιδιαίτερη δουλειά της «One Stand By Night». Τα εγκαίνια της έκθεσης πλαισιωμένα από ένα μοναδικό party – event\, στο ύφος της έκθεσης\, θα πραγματοποιηθούν το Σάββατο 29 Μαρτίου 2025 στις 8 το απόγευμα\, στον εκθεσιακό χώρο της ΦΕΜ στο Κάτω Κάστρο Μυτιλήνης\, με τη παρουσία της φωτογράφου. Η έκθεση θα είναι επισκέψιμη Δευτέρα 31 Μαρτίου έως Παρασκευή 4 Απριλίου\, 7-9 το απόγευμα και η είσοδος θα είναι ελεύθερη.
URL:https://events.mytilene.gr/event/%ce%ad%ce%ba%ce%b8%ce%b5%cf%83%ce%b7-%cf%86%cf%89%cf%84%ce%bf%ce%b3%cf%81%ce%b1%cf%86%ce%af%ce%b1%cf%82-%cf%84%ce%b7%cf%82-%ce%bc%ce%b1%cf%81%ce%b9%ce%bb%ce%ad%ce%bd%ce%b1%cf%82-%cf%86%ce%b9%ce%bb/
LOCATION:Εκθεσιακος Χωρος ΦΕΜ Κατω Καστρο Μυτιληνης\, Μικράς Ασίας\, Μυτιλήνη\, 81100\, Greece
CATEGORIES:Εκθέσεις
ATTACH;FMTTYPE=image/jpeg:https://events.mytilene.gr/wp-content/uploads/2025/03/67d94ce4ca61e.jpg
ORGANIZER;CN="%CE%A6%CF%89%CF%84%CE%BF%CE%B3%CF%81%CE%B1%CF%86%CE%B9%CE%BA%CE%B7 %CE%95%CF%84%CE%B1%CE%B9%CF%81%CE%B5%CE%AF%CE%B1 %CE%9C%CF%85%CF%84%CE%B9%CE%BB%CE%AE%CE%BD%CE%B7%CF%82 (%CE%A6%CE%95%CE%9C)":MAILTO:photo@fem.gr
END:VEVENT
END:VCALENDAR